BEGIN:VCALENDAR
PRODID:NingEventWidget-v1
VERSION:2.0
METHOD:PUBLISH
BEGIN:VTIMEZONE
TZID:Europe/London
X-LIC-LOCATION:Europe/London
BEGIN:DAYLIGHT
TZOFFSETFROM:+0000
TZOFFSETTO:+0100
TZNAME:BST
DTSTART:19700329T010000
RRULE:FREQ=YEARLY;BYMONTH=3;BYDAY=-1SU
END:DAYLIGHT
BEGIN:STANDARD
TZOFFSETFROM:+0100
TZOFFSETTO:+0000
TZNAME:GMT
DTSTART:19701025T020000
RRULE:FREQ=YEARLY;BYMONTH=10;BYDAY=-1SU
END:STANDARD
END:VTIMEZONE
BEGIN:VEVENT
UID:4626108:Event:298835
DTSTAMP:20260422T181255Z
SUMMARY:NEW VENUE: Guildford Ladies Morning, West Clandon
DESCRIPTION:Guidford Pavillion at Guildford Cricket Club\n\nOur MONTH
 LY MEETINGS for ladies only are run by Sally Castro Gouveia and & Reb
 ecca Newenham, with relaxed, fun, friendly networking (that produces r
 esults).\nOur meetings are for local business ladies who like to meet 
 on a monthly basis and find it difficult to do the start of the day - 
 we don't operate exclusivity for member categories.\n\nVisitors are we
 lcome to come along and check us out a couple of times with absolutely
  no commitment or expectation to join - you'll know if it's right for 
 you but we can guarantee you that you'll receive a very warm welcome w
 herever you attend ... come and give us a try!\n\nBusiness should be f
 un!\nCOST: £12 including coffee and cakes - payable on-line or on t
 he door.\nBOOKING: Please CLICK HERE to book\nMAP\n\nFor more inform
 ation visit https://networkinginsurrey.co.uk/events/new-venue-guildfor
 d-ladies-morning-west-clandon
DTSTART;TZID=Europe/London:20200225T110000
DTEND;TZID=Europe/London:20200225T130000
CATEGORIES:regular, business, networking, meeting
LOCATION:Guildford Pavilion – Guildford Cricket Club GU1 4RP
WEBSITE:http://www.clandonregis-golfclub.co.uk/Intro.aspx
URL:http://www.clandonregis-golfclub.co.uk/Intro.aspx
CONTACT:07525738758
ORGANIZER:Sally Castro Gouveia and Rebecca Newenham
ATTACH;FMTTYPE="image/jpeg":https://storage.ning.com/topology/rest/1.0
 /file/get/800372767?profile=original
ATTENDEE;ROLE=REQ-PARTICIPANT;PARTSTAT=ACCEPTED;RSVP=TRUE;CN="Paul A B
 ridgland":https://networkinginsurrey.co.uk/profile/PaulABridgland
END:VEVENT
END:VCALENDAR
