BEGIN:VCALENDAR
PRODID:NingEventWidget-v1
VERSION:2.0
METHOD:PUBLISH
BEGIN:VTIMEZONE
TZID:Europe/London
X-LIC-LOCATION:Europe/London
BEGIN:DAYLIGHT
TZOFFSETFROM:+0000
TZOFFSETTO:+0100
TZNAME:BST
DTSTART:19700329T010000
RRULE:FREQ=YEARLY;BYMONTH=3;BYDAY=-1SU
END:DAYLIGHT
BEGIN:STANDARD
TZOFFSETFROM:+0100
TZOFFSETTO:+0000
TZNAME:GMT
DTSTART:19701025T020000
RRULE:FREQ=YEARLY;BYMONTH=10;BYDAY=-1SU
END:STANDARD
END:VTIMEZONE
BEGIN:VEVENT
UID:4626108:Event:3121
DTSTAMP:20260425T161454Z
SUMMARY:NEW VENUE! FREE First Friday Lunchtime Networking, Guildford
DESCRIPTION:First Friday FREE Lunchtime Networking, Guildford\n\nOn th
 e First Friday of every month Answers Investigation will be hosting th
 e First Friday networking group in Guildford.\nThere's no formality, n
 o speeches (bar an introductory \"hello\" of 2-3 minutes) and, followi
 ng the First Friday format, the event itself is free - you just buy an
 y food or drink you may fancy!\nNetwork in an informal atmosphere at o
 ur new venue - the White House, Guildford. It's a 2-minute walk from t
 he High Street, and parking is easy at Millbrook Car Park (short walk 
 across the river), Sydenham Road or Millmead.\nTake a look at the pict
 ures from the December meeting at Chichester to see what you can expec
 t.\nIf you understand the value of face to face networking - and if yo
 u haven't yet experienced the First Friday format, then please come al
 ong - it's informal, friendly and people do business! We look forward 
 to meeting you then...\nNO NEED TO BOOK - just drop in! We'd appreciat
 e you letting us know if you're planning to come by emailing firstfrid
 ay@answers.uk.com or calling Isla MacKinnon on 01483 200999.\nMAP\nThe
  event is sponsored by Private Detectives Answers Investigation, and p
 osted by NiS Member Nigel Parsons.\n---------------------------\nFirst
  Friday is a new take on lunchtime business networking. There are no f
 ormalities, no speeches (bar an introductory \"hello\" of 2-3 minutes)
  - just other business people waiting to meet you. If you understand t
 he value of face to face networking, and haven't yet experienced the F
 irst Friday format, please come along. it's informal, friendly, and pe
 ople do business, and what's more, it's free - you just buy whatever y
 ou want to eat or drink!\n\nFor more information visit https://network
 inginsurrey.co.uk/events/new-venue-free-first-friday
DTSTART;TZID=Europe/London:20100702T123000
DTEND;TZID=Europe/London:20100702T143000
CATEGORIES:lunchtime, guildford, first_friday_network, free, business_
 networking
LOCATION:TheWhite House, Guildford GU2 4AJ
WEBSITE:http://www.firstfriday-network.co.uk/showmeeting.php?m=guildfo
 rd
URL:http://www.firstfriday-network.co.uk/showmeeting.php?m=guildford
CONTACT:01483 200999
ORGANIZER:Isla MacKinnon, Answers Investigation
ATTACH;FMTTYPE="image/jpeg":http://storage.ning.com/topology/rest/1.0/
 file/get/2591382452?profile=original
ATTENDEE;ROLE=REQ-PARTICIPANT;PARTSTAT=TENTATIVE;RSVP=TRUE;CN="Keith G
 rover, NiS Founder":https://networkinginsurrey.co.uk/profile/KeithGrov
 er
END:VEVENT
END:VCALENDAR
