BEGIN:VCALENDAR
PRODID:NingEventWidget-v1
VERSION:2.0
METHOD:PUBLISH
BEGIN:VTIMEZONE
TZID:Europe/London
X-LIC-LOCATION:Europe/London
BEGIN:DAYLIGHT
TZOFFSETFROM:+0000
TZOFFSETTO:+0100
TZNAME:BST
DTSTART:19700329T010000
RRULE:FREQ=YEARLY;BYMONTH=3;BYDAY=-1SU
END:DAYLIGHT
BEGIN:STANDARD
TZOFFSETFROM:+0100
TZOFFSETTO:+0000
TZNAME:GMT
DTSTART:19701025T020000
RRULE:FREQ=YEARLY;BYMONTH=10;BYDAY=-1SU
END:STANDARD
END:VTIMEZONE
BEGIN:VEVENT
UID:4626108:Event:3487
DTSTAMP:20260425T162221Z
SUMMARY:NEW VENUE! FREE First Friday Lunchtime Networking, Guildford
DESCRIPTION:First Friday FREE Lunchtime Networking, Guildford\n\nOn th
 e First Friday of every month Answers Investigation will be hosting th
 e First Friday networking group in Guildford.\nThere's no formality, n
 o speeches (bar an introductory \"hello\" of 2-3 minutes) and, followi
 ng the First Friday format, the event itself is free - you just buy an
 y food or drink you may fancy!\nNetwork in an informal atmosphere at o
 ur latest venue - the Albany, Guildford. There is ample car parking ei
 ther in the pay and display on Sydenham Road or the main Castle Street
  Car Park, both a few minutes away. The Albany is also a short walk fr
 om Guildford High Street.\nTake a look at the pictures from the Decemb
 er meeting at Chichester to see what you can expect.\nIf you understan
 d the value of face-to-face networking - and if you haven't yet experi
 enced the First Friday format, then please come along. It's your chanc
 e to meet people in business, who will do business with you – and th
 ere's a free, business card prize draw. We look forward to meeting you
  then...\nNO NEED TO BOOK - just drop in! We'd appreciate you letting 
 us know if you're planning to come by emailing firstfriday@answers.uk.
 com or calling Marnie Higgins on 01483 200999.\nMAP\nThe event is spon
 sored by Private Detectives Answers Investigation, and posted by NiS M
 ember Nigel Parsons.\n---------------------------\nFirst Friday is a n
 ew take on lunchtime business networking. There are no formalities, no
  speeches - just other business people waiting to meet you. it's infor
 mal, friendly, and people do business, and what's more, it's free - yo
 u just buy whatever you want to eat or drink!\nWatch the First Friday 
 introductory VIDEO here on YouTube\n\n\nFor more information visit htt
 ps://networkinginsurrey.co.uk/events/new-venue-free-first-friday-1
DTSTART;TZID=Europe/London:20100806T123000
DTEND;TZID=Europe/London:20100806T140000
CATEGORIES:lunchtime, guildford, first_friday_network, free, business_
 networking
LOCATION:The Albany, Guildford GU1 3SA
WEBSITE:http://www.thealbanypubguildford.co.uk/about_us
URL:http://www.thealbanypubguildford.co.uk/about_us
CONTACT:01483 200999
ORGANIZER:Marnie Higgins, Answers Investigation
ATTACH;FMTTYPE="image/jpeg":http://storage.ning.com/topology/rest/1.0/
 file/get/2591382452?profile=original
ATTENDEE;ROLE=REQ-PARTICIPANT;PARTSTAT=ACCEPTED;RSVP=TRUE;CN="Howard N
 ichols":https://networkinginsurrey.co.uk/profile/HowardNichols
ATTENDEE;ROLE=REQ-PARTICIPANT;PARTSTAT=ACCEPTED;RSVP=TRUE;CN="Colin Mc
 Kay":https://networkinginsurrey.co.uk/profile/Colin
ATTENDEE;ROLE=REQ-PARTICIPANT;PARTSTAT=ACCEPTED;RSVP=TRUE;CN="Keith Gr
 over, NiS Founder":https://networkinginsurrey.co.uk/profile/KeithGrove
 r
ATTENDEE;ROLE=REQ-PARTICIPANT;PARTSTAT=TENTATIVE;RSVP=TRUE;CN="Annie H
 eggie":https://networkinginsurrey.co.uk/profile/Annie
END:VEVENT
END:VCALENDAR
