BEGIN:VCALENDAR
PRODID:NingEventWidget-v1
VERSION:2.0
METHOD:PUBLISH
BEGIN:VTIMEZONE
TZID:Europe/London
X-LIC-LOCATION:Europe/London
BEGIN:DAYLIGHT
TZOFFSETFROM:+0000
TZOFFSETTO:+0100
TZNAME:BST
DTSTART:19700329T010000
RRULE:FREQ=YEARLY;BYMONTH=3;BYDAY=-1SU
END:DAYLIGHT
BEGIN:STANDARD
TZOFFSETFROM:+0100
TZOFFSETTO:+0000
TZNAME:GMT
DTSTART:19701025T020000
RRULE:FREQ=YEARLY;BYMONTH=10;BYDAY=-1SU
END:STANDARD
END:VTIMEZONE
BEGIN:VEVENT
UID:4626108:Event:96952
DTSTAMP:20260422T233158Z
SUMMARY:NEW VENUE: Fabulous Women Late Breakfast, Guildford
DESCRIPTION:Fabulous Women Late Breakfast at Horsley Towers (Lecture 
 Room 3)\r\n\r\nHi, I'm Mike, the group leader for the Guildford Fabul
 ous Women group. I look forward to welcoming you!\r\nHere are just a 
 few reasons why coming to a Fabulous Women Netwinning meeting will be 
 the best business decision you ever made:\r\n\r\nMake new friends\r\nF
 ind customers, suppliers and collaborators\r\nBe inspired\r\nLearn new
  skills\r\n\r\nOur Agenda is the best mix between formal and informal
  networking - perfect for the new, as well as the more experienced net
 worker\r\nWe have Inspiring speakers; a 'Hot Seat' or Mini-Coaching se
 ssion; and 1-2-1's with a 'twist' where we all work out ways in which 
 we can potentially collaborate or support each other, even if it's sim
 ply by following each other on Twitter etc. \r\nThis month's speaker 
 will ba announced shortly...\r\nYou have the chance to make a one-minu
 te business pitch about who you are, what you do and who you do it fo
 r and how we can help you. (Do not worry about this if you are a littl
 e nervous, you can type it out and read it if you wish! We do not judg
 e, we just want to help you).\r\nWomen do business with men too, and F
 abulous Women welcomes Marvellous Menwho are happy to network in our s
 tyle. This means collaboration not competition, and support not sell a
 nd we know that you are interested in both personal and business devel
 opment.\r\nYou don't need to be a member to attend a Fabulous Women N
 etwinning meeting. You can attend up to three meetings as a guest.\r\n
 With all these benefits to being a part of the Fabulous Women experien
 ce, how can you resist?!To attend, simply confirm your attendance by c
 licking on the blue \"Yes I'm Attending\" button on the right, so the 
 venue can cater for you, then just pay the attendance fee on arrival (
 cash only please!).\r\nRemember to bring your business cards and marke
 ting material and, if you sell products, bring some samples for us to 
 see.\r\nI look forward to seeing you.\r\nCOST: £10 for Guests and F
 W members (cash only please, on the door!)\r\nBOOKING: Please CLICK
  HERE to visit our website then click on the pink \"Yes I'm Attendin
 g\" button at the bottom\r\nMAP \r\n---------------------------------\
 r\nFind other local Fabulous Women events here on Networking in Surr
 ey...\n\nFor more information visit https://networkinginsurrey.co.uk/e
 vents/new-venue-fabulous-women-late-breakfast-guildford
DTSTART;TZID=Europe/London:20180320T100000
DTEND;TZID=Europe/London:20180320T120000
CATEGORIES:morning, guildford, netwinning, fabulous_women
LOCATION:'Lecture 3' Horsley Towers KT24 6DT
WEBSITE:https://www.phcompany.com/de-vere/horsley-estate/
URL:https://www.phcompany.com/de-vere/horsley-estate/
CONTACT:
ORGANIZER;CN="Mike Black":https://networkinginsurrey.co.uk/profile/Mik
 eBlack
ATTACH;FMTTYPE="image/jpeg":http://storage.ning.com/topology/rest/1.0/
 file/get/1179757333?profile=original
ATTENDEE;ROLE=REQ-PARTICIPANT;PARTSTAT=ACCEPTED;RSVP=TRUE;CN="Mike Bla
 ck":https://networkinginsurrey.co.uk/profile/MikeBlack
END:VEVENT
END:VCALENDAR
