BEGIN:VCALENDAR
PRODID:NingEventWidget-v1
VERSION:2.0
METHOD:PUBLISH
BEGIN:VTIMEZONE
TZID:Europe/London
X-LIC-LOCATION:Europe/London
BEGIN:DAYLIGHT
TZOFFSETFROM:+0000
TZOFFSETTO:+0100
TZNAME:BST
DTSTART:19700329T010000
RRULE:FREQ=YEARLY;BYMONTH=3;BYDAY=-1SU
END:DAYLIGHT
BEGIN:STANDARD
TZOFFSETFROM:+0100
TZOFFSETTO:+0000
TZNAME:GMT
DTSTART:19701025T020000
RRULE:FREQ=YEARLY;BYMONTH=10;BYDAY=-1SU
END:STANDARD
END:VTIMEZONE
BEGIN:VEVENT
UID:4626108:Event:33320
DTSTAMP:20260421T175522Z
SUMMARY:MEMBER PROMO: Social Media Workshop, Walton on Thames
DESCRIPTION:NEW! Social Media and Content Calendar Workshop\nAre you u
 sing social media? How much time are you spending online and does your
  activity fit in with your marketing plan?\nAre you talking to your ta
 rget audience or spending plenty of time engaging… but with the wron
 g people?\nPadua Communications has created a workshop to help you sta
 y on track with your marketing efforts in  the digital world.\nKey are
 as\n\nFocus on your key messages while learning some basics of social 
 media\nCreate a content calendar for your company with expert tuition\
 nIncorporate your social marketing with the rest of your marketing pla
 n\n\nCost: £150 inc VAT\nTo book: ring 07545 253293 or email nicky@pa
 duacomms.co.uk \n \n\nFor more information visit https://networkingi
 nsurrey.co.uk/events/new-social-media-and-content-calendar-workshop-1
DTSTART;TZID=Europe/London:20111122T140000
DTEND;TZID=Europe/London:20111122T163000
CATEGORIES:workshop
LOCATION:Hersham Place Technology Park
WEBSITE:https://maps.google.co.uk/maps?hl=en
URL:https://maps.google.co.uk/maps?hl=en
CONTACT:01932 213140
ORGANIZER;CN="Nicky Rudd":https://networkinginsurrey.co.uk/profile/Nic
 kyRudd
ATTACH;FMTTYPE="image/jpeg":http://storage.ning.com/topology/rest/1.0/
 file/get/2591395822?profile=original
ATTENDEE;ROLE=REQ-PARTICIPANT;PARTSTAT=ACCEPTED;RSVP=TRUE;CN="Nicky Ru
 dd":https://networkinginsurrey.co.uk/profile/NickyRudd
ATTENDEE;ROLE=REQ-PARTICIPANT;PARTSTAT=ACCEPTED;RSVP=TRUE;CN="Wendy Ch
 amier":https://networkinginsurrey.co.uk/profile/WendyChamier
END:VEVENT
END:VCALENDAR
