BEGIN:VCALENDAR
PRODID:NingEventWidget-v1
VERSION:2.0
METHOD:PUBLISH
BEGIN:VTIMEZONE
TZID:Europe/London
X-LIC-LOCATION:Europe/London
BEGIN:DAYLIGHT
TZOFFSETFROM:+0000
TZOFFSETTO:+0100
TZNAME:BST
DTSTART:19700329T010000
RRULE:FREQ=YEARLY;BYMONTH=3;BYDAY=-1SU
END:DAYLIGHT
BEGIN:STANDARD
TZOFFSETFROM:+0100
TZOFFSETTO:+0000
TZNAME:GMT
DTSTART:19701025T020000
RRULE:FREQ=YEARLY;BYMONTH=10;BYDAY=-1SU
END:STANDARD
END:VTIMEZONE
BEGIN:VEVENT
UID:4626108:Event:69550
DTSTAMP:20260421T072258Z
SUMMARY:FREE Redhill & Reigate Tweetup Evening, Redhill
DESCRIPTION:Tweetup at the Home Cottage!\n\nJoin us for a social eveni
 ng, with no agenda.  There are enough business events out there for p
 assing business cards around!  This is a chance to catch up or meet u
 p with those you would like to socialise with a little more and get to
  know each other.\nCome out from behind the screens and meet face-to-f
 ace!  All positive, friendly, sociable people are most welcome.\nSee 
 you there!  Wendy Ager \nCOST: FREE\nBOOKING: No need to book - just
  show up! \nMAP\n\nFor more information visit https://networkinginsur
 rey.co.uk/events/new-redhill-reigate-tweetups-are-back
DTSTART;TZID=Europe/London:20141126T193000
DTEND;TZID=Europe/London:20141126T223000
CATEGORIES:tweetup, community, social, fun, networking, free
LOCATION:Home Cottage RH1 4AW
WEBSITE:
URL:
CONTACT:07900 806571
ORGANIZER;CN="Wendy Ager":https://networkinginsurrey.co.uk/profile/Wen
 dyAger
ATTACH;FMTTYPE="image/jpeg":http://storage.ning.com/topology/rest/1.0/
 file/get/2591391815?profile=original
ATTENDEE;ROLE=REQ-PARTICIPANT;PARTSTAT=ACCEPTED;RSVP=TRUE;CN="Alan Rog
 ers":https://networkinginsurrey.co.uk/profile/DreamGeniusLtd
ATTENDEE;ROLE=REQ-PARTICIPANT;PARTSTAT=ACCEPTED;RSVP=TRUE;CN="Wendy Ag
 er":https://networkinginsurrey.co.uk/profile/WendyAger
END:VEVENT
END:VCALENDAR
