BEGIN:VCALENDAR
PRODID:NingEventWidget-v1
VERSION:2.0
METHOD:PUBLISH
BEGIN:VTIMEZONE
TZID:Europe/London
X-LIC-LOCATION:Europe/London
BEGIN:DAYLIGHT
TZOFFSETFROM:+0000
TZOFFSETTO:+0100
TZNAME:BST
DTSTART:19700329T010000
RRULE:FREQ=YEARLY;BYMONTH=3;BYDAY=-1SU
END:DAYLIGHT
BEGIN:STANDARD
TZOFFSETFROM:+0100
TZOFFSETTO:+0000
TZNAME:GMT
DTSTART:19701025T020000
RRULE:FREQ=YEARLY;BYMONTH=10;BYDAY=-1SU
END:STANDARD
END:VTIMEZONE
BEGIN:VEVENT
UID:4626108:Event:34344
DTSTAMP:20260421T010729Z
SUMMARY:MEMBER PROMO: Networking Skills Day, Old Coulsdon
DESCRIPTION:Networking Skills with Sue Tonks at Coulsdon Manor\n\nWoul
 d you like to discover how to network more effectively?\nThen you need
  to attend this networking skills course by Sue Tonks.\nNetworking doe
 sn’t need to cost money - we can network in hundreds of situations 
 daily.\nThese skills will help you;\n♦ Be more confident at networ
 king events♦ Be more confident when talking to people on a daily b
 asis\n\"I thought I knew how to network effectively until I went on a 
 one day course with Sue Tonks\" - Stuart Ritchie\nThis is a highly pra
 ctical workshop with plenty ofopportunity to practice the difficult s
 kills such as:\n♦ How a “Room” works♦ Learn how to join and 
 leave groups♦ How to escape the boring person♦ Which groups to 
 join♦ The power of body language\nIn addition you will learn:\n♦
  How to prepare and plan for success at networking events♦ Master 
 the secret of creating instant rapport♦ How to ask “interesting a
 nd business questions”♦ How to keep the conversation going♦ H
 ow to spot the opportunity and deal with itin a professional and effec
 tive manner♦ How to create the phone call follow up♦ How to dea
 l effectively with the follow up call to get an appointment♦ How t
 o deal with objections♦ Business card etiquette♦ More importantl
 y learn how to answer the question “What do you do?”\nCOST: This o
 ne day course is fantastic value at£39.97 per person for a full day
 s training and lunch will be included.Tickets must be booked in advan
 ce\nPLEASE CLICK HERE TO BOOK Spaces are limited so book your ticket
  now to avoid disappointment\nMAP\n\n\nFor more information visit htt
 ps://networkinginsurrey.co.uk/events/networking-skills-course
DTSTART;TZID=Europe/London:20111113T090000
DTEND;TZID=Europe/London:20111113T160000
CATEGORIES:networking, day, training, skills
LOCATION:Coulsdon Manor Hotel
WEBSITE:http://www.oxfordhotelsandinns.com/OurHotels/CoulsdonManorGolf
 Club
URL:http://www.oxfordhotelsandinns.com/OurHotels/CoulsdonManorGolfClub
CONTACT:07884 311737
ORGANIZER;CN="Stuart Ritchie":https://networkinginsurrey.co.uk/profile
 /StuartRitchie
ATTACH;FMTTYPE="image/jpeg":http://storage.ning.com/topology/rest/1.0/
 file/get/2591395738?profile=original
ATTENDEE;ROLE=REQ-PARTICIPANT;PARTSTAT=ACCEPTED;RSVP=TRUE;CN="Stuart R
 itchie":https://networkinginsurrey.co.uk/profile/StuartRitchie
ATTENDEE;ROLE=REQ-PARTICIPANT;PARTSTAT=TENTATIVE;RSVP=TRUE;CN="Laurenc
 e Lowne":https://networkinginsurrey.co.uk/profile/LaurenceLowne
END:VEVENT
END:VCALENDAR
