BEGIN:VCALENDAR
PRODID:NingEventWidget-v1
VERSION:2.0
METHOD:PUBLISH
BEGIN:VTIMEZONE
TZID:Europe/London
X-LIC-LOCATION:Europe/London
BEGIN:DAYLIGHT
TZOFFSETFROM:+0000
TZOFFSETTO:+0100
TZNAME:BST
DTSTART:19700329T010000
RRULE:FREQ=YEARLY;BYMONTH=3;BYDAY=-1SU
END:DAYLIGHT
BEGIN:STANDARD
TZOFFSETFROM:+0100
TZOFFSETTO:+0000
TZNAME:GMT
DTSTART:19701025T020000
RRULE:FREQ=YEARLY;BYMONTH=10;BYDAY=-1SU
END:STANDARD
END:VTIMEZONE
BEGIN:VEVENT
UID:4626108:Event:68307
DTSTAMP:20260421T175354Z
SUMMARY:Networking Skills Afternoon Workshop, Cobham
DESCRIPTION:Networking Skills Masterclass at The Fairmile\n\nWould You
  Like To Become A More Efffective Networker - Making Better Quality C
 onnections & Winning More Customers To Grow Your Business?\n\nDo you
  have a powerful and persuasive personal brand?\n How great is your 
 60-second ‘elevator pitch’ (and would you like to make it better?
 )\nWhat’s your networking strategy for maximum results?\n Can you
  ‘work the room’ effectively at events?\n\nDiscover how to do all 
 this and more in this fun and interactive workshop session with Keith 
 Grover of Networking in Surrey.\n\"Just one of the many things Keith e
 xplained to me has actually changed the way I network - forever!\"  P
 hilippa Pedder, Healthy Coffee for You\nHealthy Coffee for You\nThe c
 ontent of the course will be in part determined by who's attending on 
 the day - so you can be sure all your networking questions will be ans
 wered!\nCOST: £29   ***** Early-bird rate just £19 (if booked by 
 30 September)!\nBOOKING: Please CLICK HERE to book your place\nMAP\nP
 lenty of free parking available\nFINDING THE VENUE: We use KT11 1BW as
  the postcode for Google Maps to correctly locate the Fairmile adjacen
 t to the Premier Inn between Esher and Cobham on the A307 Portsmouth 
 Road \n\nFor more information visit https://networkinginsurrey.co.uk/
 events/networking-skills-afternoon-masterclass-cobham-4
DTSTART;TZID=Europe/London:20141007T143000
DTEND;TZID=Europe/London:20141007T163000
CATEGORIES:cobham, esher, workshop, afternoon
LOCATION:The Fairmile & Premier Inn KT11 1BQ
WEBSITE:http://www.eventbrite.co.uk/event/6742397693
URL:http://www.eventbrite.co.uk/event/6742397693
CONTACT:01932 845814
ORGANIZER;CN="Keith Grover, NiS Founder":https://networkinginsurrey.co
 .uk/profile/KeithGrover
ATTACH;FMTTYPE="image/jpeg":http://storage.ning.com/topology/rest/1.0/
 file/get/2591398304?profile=original
ATTENDEE;ROLE=REQ-PARTICIPANT;PARTSTAT=ACCEPTED;RSVP=TRUE;CN="Lord Ham
 ilton of Glencoe":https://networkinginsurrey.co.uk/profile/BrianIanHam
 ilton
ATTENDEE;ROLE=REQ-PARTICIPANT;PARTSTAT=ACCEPTED;RSVP=TRUE;CN="Keith Gr
 over, NiS Founder":https://networkinginsurrey.co.uk/profile/KeithGrove
 r
ATTENDEE;ROLE=REQ-PARTICIPANT;PARTSTAT=ACCEPTED;RSVP=TRUE;CN="Caroline
  McRoyall":https://networkinginsurrey.co.uk/profile/CarolineMcRoyall
ATTENDEE;ROLE=REQ-PARTICIPANT;PARTSTAT=ACCEPTED;RSVP=TRUE;CN="Karen Es
 pley":https://networkinginsurrey.co.uk/profile/KarenEspley
END:VEVENT
END:VCALENDAR
