BEGIN:VCALENDAR
PRODID:NingEventWidget-v1
VERSION:2.0
METHOD:PUBLISH
BEGIN:VTIMEZONE
TZID:Europe/London
X-LIC-LOCATION:Europe/London
BEGIN:DAYLIGHT
TZOFFSETFROM:+0000
TZOFFSETTO:+0100
TZNAME:BST
DTSTART:19700329T010000
RRULE:FREQ=YEARLY;BYMONTH=3;BYDAY=-1SU
END:DAYLIGHT
BEGIN:STANDARD
TZOFFSETFROM:+0100
TZOFFSETTO:+0000
TZNAME:GMT
DTSTART:19701025T020000
RRULE:FREQ=YEARLY;BYMONTH=10;BYDAY=-1SU
END:STANDARD
END:VTIMEZONE
BEGIN:VEVENT
UID:4626108:Event:36270
DTSTAMP:20260421T133609Z
SUMMARY:Networking & Shiatsu Lunch, Walton on Thames
DESCRIPTION:Networking Lunch followed by Shiatsu Massage Sessions at F
 orsyth\n\nLet go of your stress with Shiatsu!\nCome along to an inform
 al networking event with our Business Centre companies in our Walton o
 n Thames centre - and enjoy a relaxing massage!\nAt our fantastic valu
 eÂ networking lunch you will meet other local business people toÂ shar
 e ideas and experiences - and you can enter our free business card dra
 w for a bottle of fizz!\nPre-bookÂ your Shiatu Massage session with ex
 perienced Shiatsu practitioner and NiS Member Liz KendallÂ .Â \nShiats
 uÂ Â uses pressure points, gentle movement and stretches to release ph
 ysical tension while relaxing the mind. This effective form of massage
  is an ideal treatment if you experience pain in your neck, back and s
 houlders, feel tired, stressed, or just need some pampering. Shiatsu i
 s given fully clothed and no oils are used so it's easy to integrate i
 nto your working day.\nCOST: Â£2.50 including lunch\nOptional massage 
 sessions:Â Â 15 minute treatments for Â£10 and 30 minutes for Â£20\nBO
 OKING: Please confirm via email before 25th November & please make a Â
 £2.50 payment per person at reception along with a preferred time for 
 massage if required.\nPlease visit our Facebook page hereÂ \nMAP\nÂ \n
 \nFor more information visit https://networkinginsurrey.co.uk/events/n
 etworking-shiatsu-lunch-walton-on-thames
DTSTART;TZID=Europe/London:20111202T120000
DTEND;TZID=Europe/London:20111202T140000
CATEGORIES:lunch, shiatsu, walton_on_thames
LOCATION:Forsyth House KT12 2TD
WEBSITE:http://www.forsyth.co.uk/location/walton-on-thames
URL:http://www.forsyth.co.uk/location/walton-on-thames
CONTACT:+44(0)1932 239000
ORGANIZER:Marcia Stratta
ATTACH;FMTTYPE="image/jpeg":http://storage.ning.com/topology/rest/1.0/
 file/get/2591397032?profile=original
ATTENDEE;ROLE=REQ-PARTICIPANT;PARTSTAT=ACCEPTED;RSVP=TRUE;CN="Liz Kend
 all":https://networkinginsurrey.co.uk/profile/LizKendall
ATTENDEE;ROLE=REQ-PARTICIPANT;PARTSTAT=ACCEPTED;RSVP=TRUE;CN="Marcia S
 tratta":https://networkinginsurrey.co.uk/profile/MarciaStratta
ATTENDEE;ROLE=REQ-PARTICIPANT;PARTSTAT=TENTATIVE;RSVP=TRUE;CN="Keith G
 rover, NiS Founder":https://networkinginsurrey.co.uk/profile/KeithGrov
 er
END:VEVENT
END:VCALENDAR
