BEGIN:VCALENDAR
PRODID:NingEventWidget-v1
VERSION:2.0
METHOD:PUBLISH
BEGIN:VTIMEZONE
TZID:Europe/London
X-LIC-LOCATION:Europe/London
BEGIN:DAYLIGHT
TZOFFSETFROM:+0000
TZOFFSETTO:+0100
TZNAME:BST
DTSTART:19700329T010000
RRULE:FREQ=YEARLY;BYMONTH=3;BYDAY=-1SU
END:DAYLIGHT
BEGIN:STANDARD
TZOFFSETFROM:+0100
TZOFFSETTO:+0000
TZNAME:GMT
DTSTART:19701025T020000
RRULE:FREQ=YEARLY;BYMONTH=10;BYDAY=-1SU
END:STANDARD
END:VTIMEZONE
BEGIN:VEVENT
UID:4626108:Event:539511
DTSTAMP:20260423T042716Z
SUMMARY:Health and Wellbeing Evening Live! Twickenham
DESCRIPTION:Health and Wellbeing Networking Evening at The Alexander P
 ope\r\n\r\nJoin Our Exclusive Health and Wellbeing Professionals  Net
 working Events on the Third Tuesday evening of the month.\r\nThere are
  no membership fees - just Pay-As-You-go per meeting, and refreshments
  are included. Book early (places are limited) and you can attend your
  first meeting for free.\r\n\r\nAt our upcoming gathering, you can loo
 k forward to:\r\n\r\nNiche Networking: Connect with like-minded profes
 sionals who share your passion for health and wellbeing. This event is
  exclusively designed to foster meaningful connections within our indu
 stry.\r\nSharing Insights: Gain valuable insights and knowledge from f
 ellow professionals. It's an excellent opportunity to discuss industry
  trends, best practices, and innovative ideas.\r\nCollaboration Opport
 unities: Explore potential collaborations and partnerships with peers 
 who understand the unique challenges and opportunities in the health a
 nd wellbeing sector.\r\nSupport Network: Build a strong support networ
 k of professionals who genuinely care about your growth and success. S
 hare your challenges, seek advice, and offer your expertise to others.
 \r\nShare your business with all guests\r\n\r\nUpgrade on booking to 
 display your PoPuP stand at our event. Showcase your products, bring s
 amples, sell your goods and services, and display your pull-up banner 
 – just like an exhibition. Plus, you'll have a brief speaker slot to
  promote your business to all attendees.\r\nReconnect with familiar bu
 siness owners and meet new ones, all while building business relations
 .\r\nCOST: £14 including refreshments (£25 if you select to showcas
 e a pop-up stand. We supply a 1 x 6ft table. You bring your display/re
 tail goods inc banner)\r\nBOOKING: Please CLICK HERE to book your p
 lace\r\nMAP\r\nFREE onsite parking - Above and underground\r\n\n\nFo
 r more information visit https://networkinginsurrey.co.uk/events/netwo
 rking-health-and-wellbeing-twickenham-2
DTSTART;TZID=Europe/London:20231121T193000
DTEND;TZID=Europe/London:20231121T213000
CATEGORIES:networking, for, health, and, wellbeing, professionals
LOCATION:Alexander Suite. Alexander Pope Hotel.
WEBSITE:https://goo.gl/maps/7suMsYRzgkkXGXPF9
URL:https://goo.gl/maps/7suMsYRzgkkXGXPF9
CONTACT:075227 600 68
ORGANIZER;CN="Diane Mitchell":https://networkinginsurrey.co.uk/profile
 /DianeMitchell
ATTACH;FMTTYPE="image/jpeg":https://storage.ning.com/topology/rest/1.0
 /file/get/12223146464?profile=original
ATTENDEE;ROLE=REQ-PARTICIPANT;PARTSTAT=ACCEPTED;RSVP=TRUE;CN="Diane Mi
 tchell":https://networkinginsurrey.co.uk/profile/DianeMitchell
END:VEVENT
END:VCALENDAR
