BEGIN:VCALENDAR
PRODID:NingEventWidget-v1
VERSION:2.0
METHOD:PUBLISH
BEGIN:VTIMEZONE
TZID:Europe/London
X-LIC-LOCATION:Europe/London
BEGIN:DAYLIGHT
TZOFFSETFROM:+0000
TZOFFSETTO:+0100
TZNAME:BST
DTSTART:19700329T010000
RRULE:FREQ=YEARLY;BYMONTH=3;BYDAY=-1SU
END:DAYLIGHT
BEGIN:STANDARD
TZOFFSETFROM:+0100
TZOFFSETTO:+0000
TZNAME:GMT
DTSTART:19701025T020000
RRULE:FREQ=YEARLY;BYMONTH=10;BYDAY=-1SU
END:STANDARD
END:VTIMEZONE
BEGIN:VEVENT
UID:4626108:Event:539509
DTSTAMP:20260423T042715Z
SUMMARY:Health and Wellbeing Networking Evening Live! Twickenham
DESCRIPTION:Health and Wellbeing Evening at The Alexander Pope\r\n\r\n
 Join Our Exclusive Health and Wellbeing ProfessionalsÂ  Networking Eve
 nts on the Third Tuesday evening of the month.\r\nThere are no members
 hip fees - just Pay-As-You-go per meeting, and refreshments are includ
 ed. Book early (places are limited) and you can attend your first meet
 ing for free.\r\n\r\nAt our upcoming gathering, you can look forward t
 o:\r\n\r\nNiche Networking: Connect with like-minded professionals who
  share your passion for health and wellbeing. This event is exclusivel
 y designed to foster meaningful connections within our industry.\r\nSh
 aring Insights: Gain valuable insights and knowledge from fellow profe
 ssionals. It's an excellent opportunity to discuss industry trends, be
 st practices, and innovative ideas.\r\nCollaboration Opportunities: Ex
 plore potential collaborations and partnerships with peers who underst
 and the unique challenges and opportunities in the health and wellbein
 g sector.\r\nSupport Network: Build a strong support network of profes
 sionals who genuinely care about your growth and success. Share your c
 hallenges, seek advice, and offer your expertise to others.\r\nShare y
 our business with all guests\r\n\r\nUpgradeÂ on booking to display you
 r PoPuP stand at our event. Showcase your products, bring samples, sel
 l your goods and services, and display your pull-up banner â€“ just li
 ke an exhibition. Plus, you'll have a brief speaker slot to promote yo
 ur business to all attendees.\r\nReconnect with familiar business owne
 rs and meet new ones, all while building business relations.\r\nCOST:Â
  Â£14 including refreshments (Â£25 if you select to showcase a pop-up 
 stand. We supply a 1 x 6ft table. You bring your display/retail goods 
 inc banner)\r\nBOOKING:Â PleaseÂ CLICK HEREÂ to book your place\r\nMAP
 \r\nFREEÂ onsite parkingÂ - Above and underground\r\n\n\nFor more info
 rmation visit https://networkinginsurrey.co.uk/events/networking-healt
 h-and-wellbeing-twickenham-1
DTSTART;TZID=Europe/London:20231017T193000
DTEND;TZID=Europe/London:20231017T213000
CATEGORIES:networking, for, health, and, wellbeing, professionals
LOCATION:Alexander Suite. Alexander Pope Hotel.
WEBSITE:https://goo.gl/maps/7suMsYRzgkkXGXPF9
URL:https://goo.gl/maps/7suMsYRzgkkXGXPF9
CONTACT:075227 600 68
ORGANIZER;CN="Diane Mitchell":https://networkinginsurrey.co.uk/profile
 /DianeMitchell
ATTACH;FMTTYPE="image/jpeg":https://storage.ning.com/topology/rest/1.0
 /file/get/12223143455?profile=original
ATTENDEE;ROLE=REQ-PARTICIPANT;PARTSTAT=ACCEPTED;RSVP=TRUE;CN="Diane Mi
 tchell":https://networkinginsurrey.co.uk/profile/DianeMitchell
END:VEVENT
END:VCALENDAR
