BEGIN:VCALENDAR
PRODID:NingEventWidget-v1
VERSION:2.0
METHOD:PUBLISH
BEGIN:VTIMEZONE
TZID:Europe/London
X-LIC-LOCATION:Europe/London
BEGIN:DAYLIGHT
TZOFFSETFROM:+0000
TZOFFSETTO:+0100
TZNAME:BST
DTSTART:19700329T010000
RRULE:FREQ=YEARLY;BYMONTH=3;BYDAY=-1SU
END:DAYLIGHT
BEGIN:STANDARD
TZOFFSETFROM:+0100
TZOFFSETTO:+0000
TZNAME:GMT
DTSTART:19701025T020000
RRULE:FREQ=YEARLY;BYMONTH=10;BYDAY=-1SU
END:STANDARD
END:VTIMEZONE
BEGIN:VEVENT
UID:4626108:Event:540876
DTSTAMP:20260423T055953Z
SUMMARY:Health and Wellbeing Networking Evening, Shepperton
DESCRIPTION:Health and Wellbeing Evening at The The Red Lion  \r\n\r\n
 Wellbeing Business Owners - This Is For You!Â Come find the sparkle in
  other businesses while shining a spotlight over yours.\r\nJoin Our Ex
 clusive Health and Wellbeing ProfessionalsÂ  Networking Events on the 
 Third Tuesday evening of the month.Â \r\nThere are no membership fees 
 - just Pay-As-You-go per meeting, and refreshments are included. Book 
 early (places are limited) - and you canÂ bring a guest for free!!\r\n
 \r\nWWoW Networking is suitable for wellbeing business owners, and bus
 iness support services looking to grow their business.\r\nAt this mome
 nt, countless business owners might require your services, yet they're
  unaware of your offerings. This is your chance to explore, engage, an
 d create valuable connections within the well-being industry and its s
 upportive services.\r\nOur business networking community, a bunch of d
 own-to-earth professionals like you, consistently engages in meaningfu
 l B2B transactions. We maintain a relaxed and casual atmosphere, yet e
 veryone takes their businesses and yours seriously.\r\nCOST:Â Â£16.98Â
  including refreshments (Â£27.80 if you select to showcase a pop-up st
 and. We supply a 1 x 6ft table. You bring your display/retail goods in
 c banner)\r\nBOOKING:Â PleaseÂ CLICK HEREÂ to book your place\r\nMAP\n
 \nFor more information visit https://networkinginsurrey.co.uk/events/n
 etworking-for-health-and-wellbeing-business-owners
DTSTART;TZID=Europe/London:20240319T193000
DTEND;TZID=Europe/London:20240319T213000
CATEGORIES:professional, networking
LOCATION:The Red Lion, Russell Rd, Shepperton, TW17 9HX
WEBSITE:https://maps.app.goo.gl/8yzZQWyLQFdfdT4k7
URL:https://maps.app.goo.gl/8yzZQWyLQFdfdT4k7
CONTACT:07522760068
ORGANIZER:Diane Mitchell | Wonderful World of Wellbeing
ATTACH;FMTTYPE="image/jpeg":https://storage.ning.com/topology/rest/1.0
 /file/get/12223146464?profile=original
ATTENDEE;ROLE=REQ-PARTICIPANT;PARTSTAT=ACCEPTED;RSVP=TRUE;CN="Diane Mi
 tchell":https://networkinginsurrey.co.uk/profile/DianeMitchell
END:VEVENT
END:VCALENDAR
