BEGIN:VCALENDAR
PRODID:NingEventWidget-v1
VERSION:2.0
METHOD:PUBLISH
BEGIN:VTIMEZONE
TZID:Europe/London
X-LIC-LOCATION:Europe/London
BEGIN:DAYLIGHT
TZOFFSETFROM:+0000
TZOFFSETTO:+0100
TZNAME:BST
DTSTART:19700329T010000
RRULE:FREQ=YEARLY;BYMONTH=3;BYDAY=-1SU
END:DAYLIGHT
BEGIN:STANDARD
TZOFFSETFROM:+0100
TZOFFSETTO:+0000
TZNAME:GMT
DTSTART:19701025T020000
RRULE:FREQ=YEARLY;BYMONTH=10;BYDAY=-1SU
END:STANDARD
END:VTIMEZONE
BEGIN:VEVENT
UID:4626108:Event:4370
DTSTAMP:20260425T144250Z
SUMMARY:Networking 4 Golfers
DESCRIPTION:Our first Networking 4 Golfers event at Wildwood Golf Club
 , allows you to combine business and pleasure. 9 holes of golf allows 
 you some quality networking time with 3 new people (or the chance to b
 uild networking relationships), followed by networking in the clubhous
 e with a drink and some canapes.\n\nYou must book in advance and palce
 s are limited. Cost is £25.\n\nWhen booking by phone or email (throug
 h me please, NOT through the golf club), please advise what your handi
 cap is and what type of businesses make a good contact for you and we 
 will try to pair off people for the golf accordingly. Please join our 
 Likedin groups Networking 4 Golfers so we can keep you informed about 
 future events. www.linkedin.com/groups?mostPopular=&gid=3326192\n\nFor
  more information visit https://networkinginsurrey.co.uk/events/networ
 king-4-golfers
DTSTART;TZID=Europe/London:20101014T140000
DTEND;TZID=Europe/London:20101014T183000
CATEGORIES:golf, "&", networking
LOCATION:Wildwood Golf & Country Club
WEBSITE:http://www.wildwoodgolf.co.uk
URL:http://www.wildwoodgolf.co.uk
CONTACT:07956 329260
ORGANIZER;CN="Dan Smale":https://networkinginsurrey.co.uk/profile/DanS
 male
ATTACH;FMTTYPE="image/jpeg":
ATTENDEE;ROLE=REQ-PARTICIPANT;PARTSTAT=ACCEPTED;RSVP=TRUE;CN="Dan Smal
 e":https://networkinginsurrey.co.uk/profile/DanSmale
END:VEVENT
END:VCALENDAR
