BEGIN:VCALENDAR
PRODID:NingEventWidget-v1
VERSION:2.0
METHOD:PUBLISH
BEGIN:VTIMEZONE
TZID:Europe/London
X-LIC-LOCATION:Europe/London
BEGIN:DAYLIGHT
TZOFFSETFROM:+0000
TZOFFSETTO:+0100
TZNAME:BST
DTSTART:19700329T010000
RRULE:FREQ=YEARLY;BYMONTH=3;BYDAY=-1SU
END:DAYLIGHT
BEGIN:STANDARD
TZOFFSETFROM:+0100
TZOFFSETTO:+0000
TZNAME:GMT
DTSTART:19701025T020000
RRULE:FREQ=YEARLY;BYMONTH=10;BYDAY=-1SU
END:STANDARD
END:VTIMEZONE
BEGIN:VEVENT
UID:4626108:Event:38020
DTSTAMP:20260421T222627Z
SUMMARY:Networking 4 Golfers Evening, Surbiton
DESCRIPTION:Networking 4 Golfers - Golf Simulator Evening at The Golf 
 Plaza, Surbiton\n\nJoin us for a cracking evening of virtual golf, pla
 yed in the cosy warmth of the Golf Plaza in Surbiton, where you're nev
 er more than a club's length from a drink and a slice of pizza.\nGreat
  fun, all levels of golfers very welcome.\nCasual comfortable dress, e
 vent starts at 6pm - 8.30pm, but we're there from 5 if you want to pra
 ctice your swing and will be there till later for those that are havin
 g too much fun to leave.\nRSVP to book place, call Check out the Golf 
 Plaza website\nCOST: £20 including golf, networking, a welcome drink 
 and some pizza.\nTO BOOK: Contact NiS Member Dan Smale via his profile
  here or call 07956 329260. Visit our Networking 4 Golfers group on Li
 nkedin which is free to join.\nMAP\n \n\nFor more information visit h
 ttps://networkinginsurrey.co.uk/events/networking-4-golfers-surbiton-2
 8th-nov
DTSTART;TZID=Europe/London:20111128T180000
DTEND;TZID=Europe/London:20111128T203000
CATEGORIES:networking, evening
LOCATION:The Golf Plaza  KT6 4JF
WEBSITE:http://www.thegolfplaza.co.uk/
URL:http://www.thegolfplaza.co.uk/
CONTACT:07956329260
ORGANIZER;CN="Dan Smale":https://networkinginsurrey.co.uk/profile/DanS
 male
ATTACH;FMTTYPE="image/jpeg":http://storage.ning.com/topology/rest/1.0/
 file/get/2591393119?profile=original
ATTENDEE;ROLE=REQ-PARTICIPANT;PARTSTAT=ACCEPTED;RSVP=TRUE;CN="Dan Smal
 e":https://networkinginsurrey.co.uk/profile/DanSmale
END:VEVENT
END:VCALENDAR
