BEGIN:VCALENDAR
PRODID:NingEventWidget-v1
VERSION:2.0
METHOD:PUBLISH
BEGIN:VTIMEZONE
TZID:Europe/London
X-LIC-LOCATION:Europe/London
BEGIN:DAYLIGHT
TZOFFSETFROM:+0000
TZOFFSETTO:+0100
TZNAME:BST
DTSTART:19700329T010000
RRULE:FREQ=YEARLY;BYMONTH=3;BYDAY=-1SU
END:DAYLIGHT
BEGIN:STANDARD
TZOFFSETFROM:+0100
TZOFFSETTO:+0000
TZNAME:GMT
DTSTART:19701025T020000
RRULE:FREQ=YEARLY;BYMONTH=10;BYDAY=-1SU
END:STANDARD
END:VTIMEZONE
BEGIN:VEVENT
UID:4626108:Event:5562
DTSTAMP:20260422T215946Z
SUMMARY:Networking 4 Golfers Evening, Surbiton
DESCRIPTION:Networking 4 Golfers - Golf Simulator Evening at The Golf 
 Plaza, Surbiton\n\nAs promised, our next Networking 4 Golfers will be 
 indoors, at The Golf Plaza in Surbiton (owned by one of our LinkedIn g
 roup members Jon Wells), where we'll enjoy some virtual golf, a glass 
 or two of wine and some quality networking. Start time will be 6pm and
  we'll finish at 8pm. Places are limited, so please book asap to avoid
  dissapointment. We'll run a competition on the night with some prizes
 . Cost will be £25 for this event and will include the competition en
 try and as it's Christmas and all, a little more wine than usual! You 
 won't need to bring your clubs. If your business would like to sponsor
  the prizes, please speak to me and in return you will get a couple of
  minutes to present your business to the members on the night.\n\nPlea
 se sign up free to our Networking 4 Golfers LinkedIn group. To help ma
 ke the most out of your networking, why not take the time to look at s
 ome of your fellow members' profiles and if you think meeting them cou
 ld be useful, send them a message to make sure they are attending and 
 arrange to meet up at the event.\n\n\nCheck out the Golf Plaza website
 \nCOST £25 including wine and use of the simulator\nTO BOOK: Contact 
 NiS Member Dan Smale via his profile here or on LinkedIn.\nMAP\n\nFor 
 more information visit https://networkinginsurrey.co.uk/events/network
 ing-4-golfers-evening
DTSTART;TZID=Europe/London:20101214T180000
DTEND;TZID=Europe/London:20101214T200000
CATEGORIES:networking_4_golfers, surbiton
LOCATION:The Golf Plaza KT6 4JF
WEBSITE:http://www.thegolfplaza.co.uk/
URL:http://www.thegolfplaza.co.uk/
CONTACT:
ORGANIZER:Dan Smale
ATTACH;FMTTYPE="image/jpeg":http://storage.ning.com/topology/rest/1.0/
 file/get/2591389239?profile=original
ATTENDEE;ROLE=REQ-PARTICIPANT;PARTSTAT=TENTATIVE;RSVP=TRUE;CN="Keith G
 rover, NiS Founder":https://networkinginsurrey.co.uk/profile/KeithGrov
 er
END:VEVENT
END:VCALENDAR
