BEGIN:VCALENDAR
PRODID:NingEventWidget-v1
VERSION:2.0
METHOD:PUBLISH
BEGIN:VTIMEZONE
TZID:Europe/London
X-LIC-LOCATION:Europe/London
BEGIN:DAYLIGHT
TZOFFSETFROM:+0000
TZOFFSETTO:+0100
TZNAME:BST
DTSTART:19700329T010000
RRULE:FREQ=YEARLY;BYMONTH=3;BYDAY=-1SU
END:DAYLIGHT
BEGIN:STANDARD
TZOFFSETFROM:+0100
TZOFFSETTO:+0000
TZNAME:GMT
DTSTART:19701025T020000
RRULE:FREQ=YEARLY;BYMONTH=10;BYDAY=-1SU
END:STANDARD
END:VTIMEZONE
BEGIN:VEVENT
UID:4626108:Event:9509
DTSTAMP:20260423T081116Z
SUMMARY:Networking 4 Golfers Afternoon, Hampton Court
DESCRIPTION:Networking 4 Golfers at Hampton Court Golf Club\n\nNetwork
 ing 4 Golfers third event is at Hampton Court Golf Club and follows ou
 r usual format, which is 9 holes of golf, followed by some quality net
 working, a drink and some canapes.\nOne of our members Jeremy Dale is 
 a PGA pro and a very accomplished Trick Shot Golfer and he's hoping to
  give us a demo of his trick shot skills after the round. Do have a lo
 ok at his website www.jeremydale.com Our other regular PGA pro Jon Wel
 ls of www.thegolfplaza.co.uk will also be there should any of you need
  some help with your game.\nCOST £25\nPlaces are limited and we only 
 have 6 left at time of posting this, so if you are interested please c
 ontact me on dan.smale@theclientfactory to book or call 07956 329260.\
 n-------------------------------------------------\n Please sign up fr
 ee to our Networking 4 Golfers LinkedIn group.\nTo help make the most 
 out of your networking, why not take the time to look at some of your 
 fellow members' profiles and if you think meeting them could be useful
 , send them a message to make sure they are attending and arrange to m
 eet up at the event.\nMAP Club Entrance is near Kingston Bridge next 
 to the Old King's Head pub with a long drive through the Park followin
 g the signs to the Club.\nDIRECTIONS \n\nFor more information visit h
 ttps://networkinginsurrey.co.uk/events/networking-4-golfers-afternoon
DTSTART;TZID=Europe/London:20110302T140000
DTEND;TZID=Europe/London:20110302T190000
CATEGORIES:golf, afternoon, hampton_court
LOCATION:Hampton Court Golf Club KT1 4AD
WEBSITE:
URL:
CONTACT:
ORGANIZER;CN="Dan Smale":https://networkinginsurrey.co.uk/profile/DanS
 male
ATTACH;FMTTYPE="image/jpeg":http://storage.ning.com/topology/rest/1.0/
 file/get/2591401226?profile=original
ATTENDEE;ROLE=REQ-PARTICIPANT;PARTSTAT=ACCEPTED;RSVP=TRUE;CN="Max Wrig
 ht":https://networkinginsurrey.co.uk/profile/MaxWright
ATTENDEE;ROLE=REQ-PARTICIPANT;PARTSTAT=ACCEPTED;RSVP=TRUE;CN="Dan Smal
 e":https://networkinginsurrey.co.uk/profile/DanSmale
END:VEVENT
END:VCALENDAR
