BEGIN:VCALENDAR
PRODID:NingEventWidget-v1
VERSION:2.0
METHOD:PUBLISH
BEGIN:VTIMEZONE
TZID:Europe/London
X-LIC-LOCATION:Europe/London
BEGIN:DAYLIGHT
TZOFFSETFROM:+0000
TZOFFSETTO:+0100
TZNAME:BST
DTSTART:19700329T010000
RRULE:FREQ=YEARLY;BYMONTH=3;BYDAY=-1SU
END:DAYLIGHT
BEGIN:STANDARD
TZOFFSETFROM:+0100
TZOFFSETTO:+0000
TZNAME:GMT
DTSTART:19701025T020000
RRULE:FREQ=YEARLY;BYMONTH=10;BYDAY=-1SU
END:STANDARD
END:VTIMEZONE
BEGIN:VEVENT
UID:4626108:Event:17209
DTSTAMP:20260423T075100Z
SUMMARY:Networking 4 Golfers Afternoon, East Horsley
DESCRIPTION:Networking 4 Golfers at The Drift Golf Club\n\nThe format 
 is 9 holes of golf followed by some quality networking. Our maximum ca
 pacity is 32 for this event.\nTO BOOK: Please book by emailing dan.sma
 le@theclientfactory.co.uk or calling me on 01932 789572 to avoid dissa
 pointment. If you can't make this event, do join our group on Linkedin
 , Networking 4 Golfers, to be kept up to date with future events.\nCOS
 T: £30 including golf, networking, a drink and some nibbles.\nMAP\n--
 -----------------------------------------------\nPlease sign up free t
 o our Networking 4 Golfers LinkedIn group.\nTo help make the most out 
 of your networking, why not take the time to look at some of your fell
 ow members' profiles and if you think meeting them could be useful, se
 nd them a message to make sure they are attending and arrange to meet 
 up at the event.\n\nFor more information visit https://networkinginsur
 rey.co.uk/events/networking-4-golfers-afternoon-1
DTSTART;TZID=Europe/London:20110519T133000
DTEND;TZID=Europe/London:20110519T183000
CATEGORIES:networking, "&", golf
LOCATION:The Drift Golf Club, East Horsley KT24 5HD
WEBSITE:http://www.driftgolfclub.com/
URL:http://www.driftgolfclub.com/
CONTACT:01932 789572
ORGANIZER;CN="Dan Smale":https://networkinginsurrey.co.uk/profile/DanS
 male
ATTACH;FMTTYPE="image/jpeg":http://storage.ning.com/topology/rest/1.0/
 file/get/2591393119?profile=original
ATTENDEE;ROLE=REQ-PARTICIPANT;PARTSTAT=ACCEPTED;RSVP=TRUE;CN="Dan Smal
 e":https://networkinginsurrey.co.uk/profile/DanSmale
END:VEVENT
END:VCALENDAR
