BEGIN:VCALENDAR
PRODID:NingEventWidget-v1
VERSION:2.0
METHOD:PUBLISH
BEGIN:VTIMEZONE
TZID:Europe/London
X-LIC-LOCATION:Europe/London
BEGIN:DAYLIGHT
TZOFFSETFROM:+0000
TZOFFSETTO:+0100
TZNAME:BST
DTSTART:19700329T010000
RRULE:FREQ=YEARLY;BYMONTH=3;BYDAY=-1SU
END:DAYLIGHT
BEGIN:STANDARD
TZOFFSETFROM:+0100
TZOFFSETTO:+0000
TZNAME:GMT
DTSTART:19701025T020000
RRULE:FREQ=YEARLY;BYMONTH=10;BYDAY=-1SU
END:STANDARD
END:VTIMEZONE
BEGIN:VEVENT
UID:4626108:Event:49377
DTSTAMP:20260422T024743Z
SUMMARY:LAUNCH EVENT: Networking 4 Foodies Evening, Kingston
DESCRIPTION:Curry & Networking at Roz Ana\n\nOur first Networking 4 Fo
 odies allows you to combine an evening of fantastic food and quality n
 etworking. You can call it work if it makes you feel better, I'm going
  for the food...\nRoz Ana on Kingston Hill is hosting the event and th
 ey have prepared a mouth watering tasting menu, which will let you sam
 ple a selection of their most popular dishes.Â \nCOST: Â£26Â includes 
 dinner, soft drink, wine or beer on arrival (then cash bar available)Â
  \nBOOKING: Please CLICK HEREÂ for menu and to book\nMAP\n\nFor more i
 nformation visit https://networkinginsurrey.co.uk/events/networking-4-
 foodies
DTSTART;TZID=Europe/London:20121031T183000
DTEND;TZID=Europe/London:20121031T204500
CATEGORIES:networking, dinner, evening
LOCATION:Roz Ana KT2 7NH
WEBSITE:http://networking4foodies.eventbrite.co.uk/#
URL:http://networking4foodies.eventbrite.co.uk/#
CONTACT:07956 329260
ORGANIZER;CN="Dan Smale":https://networkinginsurrey.co.uk/profile/DanS
 male
ATTACH;FMTTYPE="image/jpeg":http://storage.ning.com/topology/rest/1.0/
 file/get/2591412966?profile=original
ATTENDEE;ROLE=REQ-PARTICIPANT;PARTSTAT=ACCEPTED;RSVP=TRUE;CN="Dan Smal
 e":https://networkinginsurrey.co.uk/profile/DanSmale
END:VEVENT
END:VCALENDAR
