BEGIN:VCALENDAR
PRODID:NingEventWidget-v1
VERSION:2.0
METHOD:PUBLISH
BEGIN:VTIMEZONE
TZID:Europe/London
X-LIC-LOCATION:Europe/London
BEGIN:DAYLIGHT
TZOFFSETFROM:+0000
TZOFFSETTO:+0100
TZNAME:BST
DTSTART:19700329T010000
RRULE:FREQ=YEARLY;BYMONTH=3;BYDAY=-1SU
END:DAYLIGHT
BEGIN:STANDARD
TZOFFSETFROM:+0100
TZOFFSETTO:+0000
TZNAME:GMT
DTSTART:19701025T020000
RRULE:FREQ=YEARLY;BYMONTH=10;BYDAY=-1SU
END:STANDARD
END:VTIMEZONE
BEGIN:VEVENT
UID:4626108:Event:35619
DTSTAMP:20260421T175528Z
SUMMARY:Best of Camberley Evening, Yateley
DESCRIPTION:Network with The Best of Camberley at the Casa Hotel\n\nTh
 e ‘best of Camberley’ has teamed up with The Casa Hotel is bringin
 g you another Network Evening with a difference.\nYou will be able to 
 enjoy totally unstructured Networking with around 50 local professiona
 ls, entrepreneurs and businesspeople, in the superb Conference Facilit
 y and find out about the new Wheelers restaurant that will be official
 ly opening on November 10th.\nEvery delegate who registers and attends
  the event will have a fantastic opportunity to win 2 Vouchers to Marc
 o Pierre White's new Wheelers Restaurant in The Casa Hotel worth £100
  in total.\n \n  HOW YOU WILL BENEFIT FROM OUR NETWORK EVENING\n
 \nConnect with like-minded business people in a relaxed ambient atmosp
 here\nDiscover potential new business alliances\nSource the best local
  suppliers\nRaise the public profile of your business\nDisplay your co
 mpany literature on our Promotion Table\nEnjoy a complimentary glass o
 f red or white wine, soft drinks, light snacks & delicious canapes\nFu
 lly licensed bar\nHave a fun evening! \n\nCOST: Business Members of t
 he bestof - £10 + vat Non-members & guests - £15 + Vat\nPLEASE CLICK
  HERE TO BOOK\nMAP\nDIRECTIONS\nPARKING: There is plenty of free parki
 ng at the venue.\n---------------------------------------------------
 --------\nCELEBRATED British chef, Marco Pierre White,The Hell’s Kit
 chen star has joined forces with The Casa Hotel, Yateley, near Camberl
 ey to bring his Wheeler’s of St. James’s brand to the area.The ele
 gant restaurant offers stylish and comfortable dining with the emphasi
 s on British and French classics, in Marco’s trademark style. All di
 shes on the menu will use seasonal produce, sourced locally wherever p
 ossible so diners can be assured of honest, high quality food at affor
 dable prices. As well as an A la carte menu, there’ll also be a week
 ly and Sunday set menu offering something to suit all appetites and po
 ckets.\nwww.thecasahoteluk.com  Tel: 01252 873275\n \n\nFor more inf
 ormation visit https://networkinginsurrey.co.uk/events/network-evening
 -with-the-best-of-camberley
DTSTART;TZID=Europe/London:20111129T183000
DTEND;TZID=Europe/London:20111129T203000
CATEGORIES:yateley, evening
LOCATION:The Casa Hotel GU46 6BT
WEBSITE:http://www.thecasahoteluk.com/
URL:http://www.thecasahoteluk.com/
CONTACT:01344 874091 / 07825 414432
ORGANIZER;CN="John D. Udal":https://networkinginsurrey.co.uk/profile/J
 ohnDUdal
ATTACH;FMTTYPE="image/jpeg":http://storage.ning.com/topology/rest/1.0/
 file/get/2591390606?profile=original
ATTENDEE;ROLE=REQ-PARTICIPANT;PARTSTAT=ACCEPTED;RSVP=TRUE;CN="John D. 
 Udal":https://networkinginsurrey.co.uk/profile/JohnDUdal
END:VEVENT
END:VCALENDAR
