BEGIN:VCALENDAR
PRODID:NingEventWidget-v1
VERSION:2.0
METHOD:PUBLISH
BEGIN:VTIMEZONE
TZID:Europe/London
X-LIC-LOCATION:Europe/London
BEGIN:DAYLIGHT
TZOFFSETFROM:+0000
TZOFFSETTO:+0100
TZNAME:BST
DTSTART:19700329T010000
RRULE:FREQ=YEARLY;BYMONTH=3;BYDAY=-1SU
END:DAYLIGHT
BEGIN:STANDARD
TZOFFSETFROM:+0100
TZOFFSETTO:+0000
TZNAME:GMT
DTSTART:19701025T020000
RRULE:FREQ=YEARLY;BYMONTH=10;BYDAY=-1SU
END:STANDARD
END:VTIMEZONE
BEGIN:VEVENT
UID:4626108:Event:350259
DTSTAMP:20260422T101853Z
SUMMARY:Natter with Nick: Tea-Time Online
DESCRIPTION:WELCOME TO OUR ONLINE GROUP!\r\n(every Monday at 10am and 
 every Friday at 3.30pm...)\r\nI'mÂ Nick Blanchard, and for any newbies
  I haven't met out there, Iâ€™m missing real Networking so much I run 
 these free friendly sessions where we can meet up virtuallyâ€¦â€¦Itâ€™
 s nothing like the real thing, but boy it helps me!!)Â \r\nIt lastsÂ 4
 0 minutes only, I try and make it as positive as possible in these tro
 ubled times, IT IS NOT an Online Business Network, it is a friendly gr
 oup of people I have met over the years coming together to share posit
 ivity, but it does include Accountants/HR experts/Mindset Coachesâ€¦â€
 ¦folks who are VERY USEFUL ATM!!!!!!\r\nToday, we'll be sharingÂ what 
 you have missed the MOST this past monthâ€¦.. and ourÂ 3-Minute TipsÂ 
 Slot is fromÂ Andrew Segal, reassuring us that â€˜YESâ€¦It IS possible
  to sleep at night with debtâ€™!\r\n(I'm looking for relevant experts 
 to do a 2/3 min piece each week that other folks might be find useful!
 )\r\nPop in and say hi, no pressure whatsoeverâ€¦and if there is ANYTH
 ING you need particular help withâ€¦.JUST YELL!!!!\r\nAny questions, o
 r if you just fancy a chat, please get in touch - and if you know anyb
 ody who might like to join us, PLEASE SHARE THE LINKS ... THE MORE THE
  MERRIER!!!!!\r\nCOST: FREE\r\nBOOKING: Please click this link toÂ joi
 n our Zoom MeetingÂ Â https://us04web.zoom.us/j/629504254Â (same link 
 for every Friday session)Â Meeting ID: 629 504 254\r\n----------------
 -------------------------------------------\r\nHere is a link to a FRE
 EÂ calendarÂ functionÂ whichÂ automaticallyÂ puts all theÂ datesÂ (and
  links!) into your online calendarâ€¦ (just register and follow the in
 structions, as I said totally free!!)Â \n\nFor more information visit 
 https://networkinginsurrey.co.uk/events/natter-with-nick-online
DTSTART;TZID=Europe/London:20200417T153000
DTEND;TZID=Europe/London:20200417T161500
CATEGORIES:online, networking
LOCATION:Online only
WEBSITE:
URL:
CONTACT:
ORGANIZER:Nick Blanchard
ATTACH;FMTTYPE="image/jpeg":https://storage.ning.com/topology/rest/1.0
 /file/get/4432968596?profile=original
ATTENDEE;ROLE=REQ-PARTICIPANT;PARTSTAT=ACCEPTED;RSVP=TRUE;CN="Keith Gr
 over, NiS Founder":https://networkinginsurrey.co.uk/profile/KeithGrove
 r
END:VEVENT
END:VCALENDAR
