BEGIN:VCALENDAR
PRODID:NingEventWidget-v1
VERSION:2.0
METHOD:PUBLISH
BEGIN:VTIMEZONE
TZID:Europe/London
X-LIC-LOCATION:Europe/London
BEGIN:DAYLIGHT
TZOFFSETFROM:+0000
TZOFFSETTO:+0100
TZNAME:BST
DTSTART:19700329T010000
RRULE:FREQ=YEARLY;BYMONTH=3;BYDAY=-1SU
END:DAYLIGHT
BEGIN:STANDARD
TZOFFSETFROM:+0100
TZOFFSETTO:+0000
TZNAME:GMT
DTSTART:19701025T020000
RRULE:FREQ=YEARLY;BYMONTH=10;BYDAY=-1SU
END:STANDARD
END:VTIMEZONE
BEGIN:VEVENT
UID:4626108:Event:349328
DTSTAMP:20260422T101851Z
SUMMARY:FREE MyTeam Network Lunchtime Online
DESCRIPTION:MyTeam Online WorkingLunch\r\nFor more than 6 years, MyTea
 m Network's WorkingLunches have been held at The Fairmile in Cobham. N
 ow we've moved online - but the core values and principles of MyTeam a
 pply.\r\nOur meeting RoundTable Topic pretty much selects itself this 
 time around - 'How's it going so far?! And what does the future hold f
 or business networking?'Â \r\nNaturally we'll be looking at the Zoom p
 henomenon and share tips for using what has become the default online 
 networking platform.\r\n\r\nOur mantra is 'Engage - Share - Support - 
 Collaborate!' reflecting the stages of development a great networking 
 relationship naturally follows.\r\nNotice that 'Sell' is not included 
 in the Mantra (or our meetings) There's no pitching allowed (not even 
 a 60-second intro)! This allows the real human being to step out from 
 behind the 'reluctant salesperson' faÃ§ade and be true to themselves, 
 and therefore to the Team.\r\nIt's amazing what happens next... come a
 nd join us to discover the transformation!\r\nCOST: FREEÂ to attend fo
 r all MyTeam Members* -Â booking is essential, and numbers will be lim
 ited to 20Â \r\nBOOKING: Please CLICK HERE to book your virtual place.
 .. details of how to join the meeting will be sent to all attendeesÂ \
 r\n*Only Members of our free private LinkedIn MyTeam Group can book in
  advance for this event... if you are not a Member please email keith@
 networkinginsurrey,co.uk to be waitlisted - thanks!\r\n---------------
 ---------------------------------\r\nWhat MyTeam is all aboutâ€¦  â€¢ 
 MyTeam Network follows an innovative formula for a networking group ba
 sed on observations of how networking works, and why people do it  â€¢
  MyTeam is based upon the premise â€˜we are smarter than me!â€™ (and â
 €˜stronger than meâ€™ too)  â€¢ MyTeam Network gives networkers â€˜col
 leaguesâ€™  â€¢ MyTeam works in the space between meetings - too many 
 networkers do nothing apart from go to meetings (not because they don'
 t want to, they just don't get around to it - our team system solves t
 hat for you!) â€¢ MyTeam doesnâ€™t replace your existing networking â€
 “ it enhances it\n\nFor more information visit https://networkinginsur
 rey.co.uk/events/myteam-network-lunchtime-online
DTSTART;TZID=Europe/London:20200421T123000
DTEND;TZID=Europe/London:20200421T140000
CATEGORIES:networking, lunchtime, myteam
LOCATION:Online only
WEBSITE:
URL:
CONTACT:
ORGANIZER;CN="Keith Grover, NiS Founder":https://networkinginsurrey.co
 .uk/profile/KeithGrover
ATTACH;FMTTYPE="image/jpeg":https://storage.ning.com/topology/rest/1.0
 /file/get/4135010496?profile=original
ATTENDEE;ROLE=REQ-PARTICIPANT;PARTSTAT=ACCEPTED;RSVP=TRUE;CN="Keith Gr
 over, NiS Founder":https://networkinginsurrey.co.uk/profile/KeithGrove
 r
END:VEVENT
END:VCALENDAR
