BEGIN:VCALENDAR
PRODID:NingEventWidget-v1
VERSION:2.0
METHOD:PUBLISH
BEGIN:VTIMEZONE
TZID:Europe/London
X-LIC-LOCATION:Europe/London
BEGIN:DAYLIGHT
TZOFFSETFROM:+0000
TZOFFSETTO:+0100
TZNAME:BST
DTSTART:19700329T010000
RRULE:FREQ=YEARLY;BYMONTH=3;BYDAY=-1SU
END:DAYLIGHT
BEGIN:STANDARD
TZOFFSETFROM:+0100
TZOFFSETTO:+0000
TZNAME:GMT
DTSTART:19701025T020000
RRULE:FREQ=YEARLY;BYMONTH=10;BYDAY=-1SU
END:STANDARD
END:VTIMEZONE
BEGIN:VEVENT
UID:4626108:Event:409518
DTSTAMP:20260421T113935Z
SUMMARY:MyTeam Network Lunchtime Online
DESCRIPTION:MyTeam Online WorkingLunch - All Welcome!\r\nFor more than
  6 years, MyTeam Network's WorkingLunches have been held at The Fairmi
 le in Cobham. Now we've moved online - but the core values and princip
 les of MyTeam apply.\r\nOur meeting RoundTable TopicÂ today is our eve
 r-popular format:Â  'VIrtual Boardroom - Brainstorming a business chal
 lenge faced by one of the group who's in the HotSeat.'Â \r\n\r\nOur ma
 ntra is 'Engage - Share - Support - Collaborate!' reflecting the stage
 s of development a great networking relationship naturally follows.\r\
 nNotice that 'Sell' is not included in the Mantra (or our meetings) Th
 ere's no pitching allowed (not even a 60-second 'enervator' Pitch)! Th
 is allows the real human being to step out from behind the 'reluctant 
 salesperson' faÃ§ade and be true to themselves, and therefore to the T
 eam.Â \r\nIt's amazing what happens next... come and join us to discov
 er the transformation!\r\nMyTeam WorkingLunches are 'pay-as-you-go' - 
 there's no subscription - and no commitment to attend meetings, no exc
 lusions.Â \r\nCOST: Â£10Â to attend for all MyTeam Members and Visitor
 sÂ \r\nBOOKING: Please CLICK HERE to book your virtual place... detail
 s of how to join the meeting will be sent to all attendeesÂ \r\n------
 ------------------------------------------\r\nWhat MyTeam is all about
 â€¦  â€¢ MyTeam Network follows an innovative formula for a networking
  group based on observations of how networking works, and why people d
 o it  â€¢ MyTeam is based upon the premise â€˜we are smarter than me!â
 €™ (and â€˜stronger togetherâ€™ too)  â€¢ MyTeam Network gives network
 ers â€˜colleaguesâ€™  â€¢ MyTeam works in the space between meetings -
  too many networkers do nothing apart from go to meetings (not because
  they don't want to, they just don't get around to it - our team syste
 m solves that for you!) â€¢ MyTeam doesnâ€™t replace your existing net
 working â€“ it enhances it\n\nFor more information visit https://netwo
 rkinginsurrey.co.uk/events/myteam-network-lunchtime-online-6
DTSTART;TZID=Europe/London:20201020T123000
DTEND;TZID=Europe/London:20201020T140000
CATEGORIES:networking, lunchtime, myteam
LOCATION:Online only
WEBSITE:
URL:
CONTACT:
ORGANIZER;CN="Keith Grover, NiS Founder":https://networkinginsurrey.co
 .uk/profile/KeithGrover
ATTACH;FMTTYPE="image/jpeg":https://storage.ning.com/topology/rest/1.0
 /file/get/4135010496?profile=original
ATTENDEE;ROLE=REQ-PARTICIPANT;PARTSTAT=ACCEPTED;RSVP=TRUE;CN="Keith Gr
 over, NiS Founder":https://networkinginsurrey.co.uk/profile/KeithGrove
 r
END:VEVENT
END:VCALENDAR
