BEGIN:VCALENDAR
PRODID:NingEventWidget-v1
VERSION:2.0
METHOD:PUBLISH
BEGIN:VTIMEZONE
TZID:Europe/London
X-LIC-LOCATION:Europe/London
BEGIN:DAYLIGHT
TZOFFSETFROM:+0000
TZOFFSETTO:+0100
TZNAME:BST
DTSTART:19700329T010000
RRULE:FREQ=YEARLY;BYMONTH=3;BYDAY=-1SU
END:DAYLIGHT
BEGIN:STANDARD
TZOFFSETFROM:+0100
TZOFFSETTO:+0000
TZNAME:GMT
DTSTART:19701025T020000
RRULE:FREQ=YEARLY;BYMONTH=10;BYDAY=-1SU
END:STANDARD
END:VTIMEZONE
BEGIN:VEVENT
UID:4626108:Event:408551
DTSTAMP:20260421T191756Z
SUMMARY:MyTeam Network Lunchtime Online
DESCRIPTION:MyTeam Online WorkingLunch\r\nFor more than 6 years, MyTea
 m Network's WorkingLunches have been held at The Fairmile in Cobham. N
 ow we've moved online - but the core values and principles of MyTeam a
 pply.\r\nOur meeting RoundTable Topic today is  'All I want for Chris
 tmas is a New Normal! How does that work for your business in 2021?' '
 \r\n\r\nOur mantra is 'Engage - Share - Support - Collaborate!' reflec
 ting the stages of development a great networking relationship natural
 ly follows.\r\nNotice that 'Sell' is not included in the Mantra (or ou
 r meetings) There's no pitching allowed (not even a 60-second 'enervat
 or' Pitch)! This allows the real human being to step out from behind t
 he 'reluctant salesperson' façade and be true to themselves, and ther
 efore to the Team.\r\nIt's amazing what happens next... come and join 
 us to discover the transformation!\r\nCOST: £10 to attend for all My
 Team Members and Visitors \r\nBOOKING: Please CLICK HERE to book your
  virtual place... details of how to join the meeting will be sent to a
 ll attendees \r\n------------------------------------------------\r\n
 What MyTeam is all about…  • MyTeam Network follows an innovative 
 formula for a networking group based on observations of how networking
  works, and why people do it  • MyTeam is based upon the premise ‘
 we are smarter than me!’ (and ‘stronger together’ too)  • MyTe
 am Network gives networkers ‘colleagues’  • MyTeam works in the 
 space between meetings - too many networkers do nothing apart from go 
 to meetings (not because they don't want to, they just don't get aroun
 d to it - our team system solves that for you!) • MyTeam doesn’t r
 eplace your existing networking – it enhances it\n\nFor more informa
 tion visit https://networkinginsurrey.co.uk/events/myteam-network-lunc
 htime-online-5
DTSTART;TZID=Europe/London:20200915T123000
DTEND;TZID=Europe/London:20200915T140000
CATEGORIES:networking, lunchtime, myteam
LOCATION:Online only
WEBSITE:
URL:
CONTACT:
ORGANIZER;CN="Keith Grover, NiS Founder":https://networkinginsurrey.co
 .uk/profile/KeithGrover
ATTACH;FMTTYPE="image/jpeg":https://storage.ning.com/topology/rest/1.0
 /file/get/4135010496?profile=original
ATTENDEE;ROLE=REQ-PARTICIPANT;PARTSTAT=ACCEPTED;RSVP=TRUE;CN="Keith Gr
 over, NiS Founder":https://networkinginsurrey.co.uk/profile/KeithGrove
 r
END:VEVENT
END:VCALENDAR
