BEGIN:VCALENDAR
PRODID:NingEventWidget-v1
VERSION:2.0
METHOD:PUBLISH
BEGIN:VTIMEZONE
TZID:Europe/London
X-LIC-LOCATION:Europe/London
BEGIN:DAYLIGHT
TZOFFSETFROM:+0000
TZOFFSETTO:+0100
TZNAME:BST
DTSTART:19700329T010000
RRULE:FREQ=YEARLY;BYMONTH=3;BYDAY=-1SU
END:DAYLIGHT
BEGIN:STANDARD
TZOFFSETFROM:+0100
TZOFFSETTO:+0000
TZNAME:GMT
DTSTART:19701025T020000
RRULE:FREQ=YEARLY;BYMONTH=10;BYDAY=-1SU
END:STANDARD
END:VTIMEZONE
BEGIN:VEVENT
UID:4626108:Event:530340
DTSTAMP:20260424T133853Z
SUMMARY:FREE MyTeam Network Lunchtime Online
DESCRIPTION:MyTeam FREE 'CATCH(up)-22'!\r\n\r\nSee what I did there? I
 t is a real Catch-22 situation in Networkland as yet again we start a 
 New Year in a state of flux, unsure of how things are going to pan out
 .\r\nIn-person networking and business events suffered another body bl
 ow - not because of a Lockdown this time, but simply from a collapse o
 f public confidence in the face of theÂ Ohmygod Variant.\r\nAt an onli
 ne meeting I attended recently, exactly half of those present said the
 y were unlikely or unwilling to go toÂ face-to-face networking eventsÂ
  in the foreseeable future.\r\nSo for our firstÂ 2022 meetingÂ we're b
 ack in the Zoom Room and we're waiving the usual Â£10 meeting fee for 
 Members and Visitors alike. It's a great opportunity to sample theÂ Ma
 gic of MyTeamÂ for first-time Visitors and for old chums to catch up!\
 r\nMyTeam is not your average business networking group - and the worl
 d has changed - forever!\r\nOur mantra is 'Engage - Share - Support - 
 Collaborate!' reflecting the stages of development a great networking 
 relationship naturally follows.\r\nNotice that 'Sell' is not included 
 in the Mantra (or our meetings) There's no pitching allowed (not even 
 a 60-second 'enervator' Pitch)! This allows the real human being to st
 ep out from behind the 'reluctant salesperson' faÃ§ade and be true to 
 themselves, and therefore to the Team.Â \r\nIt's amazing what happens 
 next... come and join us to discover the transformation!\r\nMyTeam Wor
 kingLunches are 'pay-as-you-go' - there's no subscription - and no com
 mitment to attend meetings, no exclusions - and this month's is...\r\n
 COST: FREE - all welcome!Â \r\nBOOKING: Please CLICK HERE to book your
  virtual place... details of how to join the meeting will be sent to a
 ll attendeesÂ \r\n------------------------------------------------\r\n
 What MyTeam is all aboutâ€¦  â€¢ MyTeam Network follows an innovative 
 formula for a networking group based on observations of how networking
  works, and why people do it  â€¢ MyTeam is based upon the premise â€˜
 we are smarter than me!â€™ (and â€˜stronger togetherâ€™ too)  â€¢ MyTe
 am Network gives networkers â€˜colleaguesâ€™  â€¢ MyTeam works in the 
 space between meetings - too many networkers do nothing apart from go 
 to meetings (not because they don't want to, they just don't get aroun
 d to it - our team system solves that for you!) â€¢ MyTeam doesnâ€™t r
 eplace your existing networking â€“ it enhances it\n\nFor more informa
 tion visit https://networkinginsurrey.co.uk/events/myteam-network-lunc
 htime-online-19
DTSTART;TZID=Europe/London:20220118T123000
DTEND;TZID=Europe/London:20220118T140000
CATEGORIES:networking, lunchtime, myteam
LOCATION:Online only
WEBSITE:
URL:
CONTACT:
ORGANIZER;CN="Keith Grover, NiS Founder":https://networkinginsurrey.co
 .uk/profile/KeithGrover
ATTACH;FMTTYPE="image/jpeg":https://storage.ning.com/topology/rest/1.0
 /file/get/4135010496?profile=original
ATTENDEE;ROLE=REQ-PARTICIPANT;PARTSTAT=ACCEPTED;RSVP=TRUE;CN="Keith Gr
 over, NiS Founder":https://networkinginsurrey.co.uk/profile/KeithGrove
 r
END:VEVENT
END:VCALENDAR
