BEGIN:VCALENDAR
PRODID:NingEventWidget-v1
VERSION:2.0
METHOD:PUBLISH
BEGIN:VTIMEZONE
TZID:Europe/London
X-LIC-LOCATION:Europe/London
BEGIN:DAYLIGHT
TZOFFSETFROM:+0000
TZOFFSETTO:+0100
TZNAME:BST
DTSTART:19700329T010000
RRULE:FREQ=YEARLY;BYMONTH=3;BYDAY=-1SU
END:DAYLIGHT
BEGIN:STANDARD
TZOFFSETFROM:+0100
TZOFFSETTO:+0000
TZNAME:GMT
DTSTART:19701025T020000
RRULE:FREQ=YEARLY;BYMONTH=10;BYDAY=-1SU
END:STANDARD
END:VTIMEZONE
BEGIN:VEVENT
UID:4626108:Event:527815
DTSTAMP:20260426T034200Z
SUMMARY:MyTeam Network Lunchtime Online
DESCRIPTION:MyTeam Online WorkingLunch - All Welcome!\r\nFor more than
  6 years, MyTeam Network's WorkingLunches have been held at The Fairmi
 le in Cobham. Now we've moved online - but the core values and princip
 les of MyTeam apply.\r\nOur meeting RoundTable TopicÂ today isÂ  \"How
  different do we all feel after Freedom Day (yesterday)?'\"\r\n\r\nMyT
 eam is not your average business networking group - and the world has 
 changed - forever!\r\nOur mantra is 'Engage - Share - Support - Collab
 orate!' reflecting the stages of development a great networking relati
 onship naturally follows.\r\nNotice that 'Sell' is not included in the
  Mantra (or our meetings) There's no pitching allowed (not even a 60-s
 econd 'enervator' Pitch)! This allows the real human being to step out
  from behind the 'reluctant salesperson' faÃ§ade and be true to themse
 lves, and therefore to the Team.Â \r\nIt's amazing what happens next..
 . come and join us to discover the transformation!\r\nOur Business Top
 ic for this meeting is>Oh, my Word! What one word sums up your Mindset
  with the prospect of an end to Lockdown this year?( business or perso
 nal!)'Â Â \r\nMyTeam WorkingLunches are 'pay-as-you-go' - there's no s
 ubscription - and no commitment to attend meetings, no exclusions...Â 
 \r\nCOST: Â£10Â to attend for all MyTeam Members and VisitorsÂ \r\nBOO
 KING: Please CLICK HERE to book your virtual place... details of how t
 o join the meeting will be sent to all attendeesÂ \r\n----------------
 --------------------------------\r\nWhat MyTeam is all aboutâ€¦  â€¢ M
 yTeam Network follows an innovative formula for a networking group bas
 ed on observations of how networking works, and why people do it  â€¢ 
 MyTeam is based upon the premise â€˜we are smarter than me!â€™ (and â€
 ˜stronger togetherâ€™ too)  â€¢ MyTeam Network gives networkers â€˜col
 leaguesâ€™  â€¢ MyTeam works in the space between meetings - too many 
 networkers do nothing apart from go to meetings (not because they don'
 t want to, they just don't get around to it - our team system solves t
 hat for you!) â€¢ MyTeam doesnâ€™t replace your existing networking â€
 “ it enhances it\n\nFor more information visit https://networkinginsur
 rey.co.uk/events/myteam-network-lunchtime-online-15
DTSTART;TZID=Europe/London:20210720T123000
DTEND;TZID=Europe/London:20210720T140000
CATEGORIES:networking, lunchtime, myteam
LOCATION:Online only
WEBSITE:
URL:
CONTACT:
ORGANIZER;CN="Keith Grover, NiS Founder":https://networkinginsurrey.co
 .uk/profile/KeithGrover
ATTACH;FMTTYPE="image/jpeg":https://storage.ning.com/topology/rest/1.0
 /file/get/4135010496?profile=original
ATTENDEE;ROLE=REQ-PARTICIPANT;PARTSTAT=ACCEPTED;RSVP=TRUE;CN="Keith Gr
 over, NiS Founder":https://networkinginsurrey.co.uk/profile/KeithGrove
 r
END:VEVENT
END:VCALENDAR
