BEGIN:VCALENDAR
PRODID:NingEventWidget-v1
VERSION:2.0
METHOD:PUBLISH
BEGIN:VTIMEZONE
TZID:Europe/London
X-LIC-LOCATION:Europe/London
BEGIN:DAYLIGHT
TZOFFSETFROM:+0000
TZOFFSETTO:+0100
TZNAME:BST
DTSTART:19700329T010000
RRULE:FREQ=YEARLY;BYMONTH=3;BYDAY=-1SU
END:DAYLIGHT
BEGIN:STANDARD
TZOFFSETFROM:+0100
TZOFFSETTO:+0000
TZNAME:GMT
DTSTART:19701025T020000
RRULE:FREQ=YEARLY;BYMONTH=10;BYDAY=-1SU
END:STANDARD
END:VTIMEZONE
BEGIN:VEVENT
UID:4626108:Event:527067
DTSTAMP:20260422T175533Z
SUMMARY:MyTeam Network Lunchtime Online
DESCRIPTION:MyTeam Online WorkingLunch - All Welcome!\r\nFor more than
  6 years, MyTeam Network's WorkingLunches have been held at The Fairmi
 le in Cobham. Now we've moved online - but the core values and princip
 les of MyTeam apply.\r\nOur meeting RoundTable Topic today is  \"Wha
 t new skills or pastimes did you promise yourself you'd take up at the
  start of the Pandemic? How well did it go? And what new powers did yo
 u actually develop during Lockdown?\"\r\n\r\nMyTeam is not your averag
 e business networking group - and the world has changed - forever!\r\n
 Our mantra is 'Engage - Share - Support - Collaborate!' reflecting the
  stages of development a great networking relationship naturally follo
 ws.\r\nNotice that 'Sell' is not included in the Mantra (or our meetin
 gs) There's no pitching allowed (not even a 60-second 'enervator' Pitc
 h)! This allows the real human being to step out from behind the 'relu
 ctant salesperson' façade and be true to themselves, and therefore to
  the Team. \r\nIt's amazing what happens next... come and join us to 
 discover the transformation!\r\nOur Business Topic for this meeting is
 >Oh, my Word! What one word sums up your Mindset with the prospect of 
 an end to Lockdown this year?( business or personal!)'  \r\nMyTeam W
 orkingLunches are 'pay-as-you-go' - there's no subscription - and no c
 ommitment to attend meetings, no exclusions... \r\nCOST: £10 to att
 end for all MyTeam Members and Visitors \r\nBOOKING: Please CLICK HER
 E to book your virtual place... details of how to join the meeting wil
 l be sent to all attendees \r\n--------------------------------------
 ----------\r\nWhat MyTeam is all about…  • MyTeam Network follows 
 an innovative formula for a networking group based on observations of 
 how networking works, and why people do it  • MyTeam is based upon t
 he premise ‘we are smarter than me!’ (and ‘stronger together’ 
 too)  • MyTeam Network gives networkers ‘colleagues’  • MyTeam
  works in the space between meetings - too many networkers do nothing 
 apart from go to meetings (not because they don't want to, they just d
 on't get around to it - our team system solves that for you!) • MyTe
 am doesn’t replace your existing networking – it enhances it\n\nFo
 r more information visit https://networkinginsurrey.co.uk/events/mytea
 m-network-lunchtime-online-14
DTSTART;TZID=Europe/London:20210615T123000
DTEND;TZID=Europe/London:20210615T140000
CATEGORIES:networking, lunchtime, myteam
LOCATION:Online only
WEBSITE:
URL:
CONTACT:
ORGANIZER;CN="Keith Grover, NiS Founder":https://networkinginsurrey.co
 .uk/profile/KeithGrover
ATTACH;FMTTYPE="image/jpeg":https://storage.ning.com/topology/rest/1.0
 /file/get/4135010496?profile=original
ATTENDEE;ROLE=REQ-PARTICIPANT;PARTSTAT=ACCEPTED;RSVP=TRUE;CN="Keith Gr
 over, NiS Founder":https://networkinginsurrey.co.uk/profile/KeithGrove
 r
END:VEVENT
END:VCALENDAR
