BEGIN:VCALENDAR
PRODID:NingEventWidget-v1
VERSION:2.0
METHOD:PUBLISH
BEGIN:VTIMEZONE
TZID:Europe/London
X-LIC-LOCATION:Europe/London
BEGIN:DAYLIGHT
TZOFFSETFROM:+0000
TZOFFSETTO:+0100
TZNAME:BST
DTSTART:19700329T010000
RRULE:FREQ=YEARLY;BYMONTH=3;BYDAY=-1SU
END:DAYLIGHT
BEGIN:STANDARD
TZOFFSETFROM:+0100
TZOFFSETTO:+0000
TZNAME:GMT
DTSTART:19701025T020000
RRULE:FREQ=YEARLY;BYMONTH=10;BYDAY=-1SU
END:STANDARD
END:VTIMEZONE
BEGIN:VEVENT
UID:4626108:Event:529414
DTSTAMP:20260420T020739Z
SUMMARY:FREE MyTeam Lunchtime Boardroom LIVE! Cobham
DESCRIPTION:MyTeam Online WorkingLunch - Back In Person!\r\n\r\nAfter 
 our hugely productive and well-received online Boardroom meeting in la
 st month, we're repeating the popular format inour first in-person mee
 ting since Lockdown 1.0\r\nAny attendee can present a challenge they a
 re facing in their business for the Team to Brainstorm.\r\n\r\nTopics 
 will be selected by vote, and the winners will get to sit in the HotSe
 at while we come up with ideas, feedback and suggestions for ways the 
 issue could be resolved.\r\nWe know it's the most powerful (and potent
 ially game-changing) form of networking...\r\n\r\nMyTeam is not your a
 verage business networking group! - \r\nOur mantra is 'Engage - Share
  - Support - Collaborate!' reflecting the stages of development a grea
 t networking relationship naturally follows.\r\nNotice that 'Sell' is 
 not included in the Mantra (or our meetings) There's no pitching allow
 ed (not even a 60-second 'enervator' Pitch)! This allows the real huma
 n being to step out from behind the 'reluctant salesperson' façade an
 d be true to themselves, and therefore to the Team. \r\nIt's amazing 
 what happens next... come and join us to discover the transformation!\
 r\nMyTeam WorkingLunches are 'pay-as-you-go' - there's no subscription
  - and no commitment to attend meetings, no exclusions - and this mont
 h's is...\r\nCOST: FREE for MyTeam Members and Visitors - buy your ow
 n lunch and drinks at the bar. \r\nBOOKING: Please CLICK HERE to book
  your place... \r\nMAP\r\nAmple free parking\r\n---------------------
 ---------------------------\r\nWhat MyTeam is all about…  • MyTeam
  Network follows an innovative formula for a networking group based on
  observations of how networking works, and why people do it  • MyTea
 m is based upon the premise ‘we are smarter than me!’ (and ‘stro
 nger together’ too)  • MyTeam Network gives networkers ‘colleagu
 es’  • MyTeam works in the space between meetings - too many netwo
 rkers do nothing apart from go to meetings (not because they don't wan
 t to, they just don't get around to it - our team system solves that f
 or you!) • MyTeam doesn’t replace your existing networking – it 
 enhances it\n\nFor more information visit https://networkinginsurrey.c
 o.uk/events/myteam-network-lunchtime-live-cobham
DTSTART;TZID=Europe/London:20211005T123000
DTEND;TZID=Europe/London:20211005T140000
CATEGORIES:networking, lunchtime, myteam
LOCATION:The Fairmile and Premier Inn KT11 1BW
WEBSITE:
URL:
CONTACT:
ORGANIZER;CN="Keith Grover, NiS Founder":https://networkinginsurrey.co
 .uk/profile/KeithGrover
ATTACH;FMTTYPE="image/jpeg":https://storage.ning.com/topology/rest/1.0
 /file/get/4135010496?profile=original
ATTENDEE;ROLE=REQ-PARTICIPANT;PARTSTAT=ACCEPTED;RSVP=TRUE;CN="Keith Gr
 over, NiS Founder":https://networkinginsurrey.co.uk/profile/KeithGrove
 r
END:VEVENT
END:VCALENDAR
