BEGIN:VCALENDAR
PRODID:NingEventWidget-v1
VERSION:2.0
METHOD:PUBLISH
BEGIN:VTIMEZONE
TZID:Europe/London
X-LIC-LOCATION:Europe/London
BEGIN:DAYLIGHT
TZOFFSETFROM:+0000
TZOFFSETTO:+0100
TZNAME:BST
DTSTART:19700329T010000
RRULE:FREQ=YEARLY;BYMONTH=3;BYDAY=-1SU
END:DAYLIGHT
BEGIN:STANDARD
TZOFFSETFROM:+0100
TZOFFSETTO:+0000
TZNAME:GMT
DTSTART:19701025T020000
RRULE:FREQ=YEARLY;BYMONTH=10;BYDAY=-1SU
END:STANDARD
END:VTIMEZONE
BEGIN:VEVENT
UID:4626108:Event:87049
DTSTAMP:20260424T092032Z
SUMMARY:MyTeam Lunchtime RoundTable, Headley
DESCRIPTION:MyTeam Mole Valley WorkingLunch at The Cock Inn\nMy Team N
 etwork was developed by Keith Grover, creator of Networking in Surrey.
  Find out how it all works at this informal lunchtime session of our n
 ew Mole Valley Group hosted by Jeremy Webb.\nYou can get a decent lun
 ch and a drink for just £10 with the venue's exclusive MyTeam Menu! 
 \nToday's RoundTable Business Topic  (chosen by Member vote):  'Th
 e Marketing Mix - getting the balance right'                \n
 \nThanks Keith! I was very pleased I joined the Working Lunch session
  with you all - really beneficial.\"Kirsten Brown, Independent Consult
 ant, Arbonne\n\"Great meeting Keith. Look forward to the next one...\"
  Mark Hughes, Funky Social Media\n\"A big thank you to everyone at to
 day’s session for making me feel so welcome.\" Rhona Byrne, Interna
 tional Reiki Master/Teacher & Spiritual Life Coach\n\"Really enjoyed M
 yTeam Network at The Fairmile - a breath of fresh air from all other N
 etworking Groups! Loved it and will attend again.\" 'Magic' Theo Theo
 doris Magician & Mobile Sports Massage Therapist\n\"How refreshing -
  a networking meeting where nobody tried to sell me anything!\" David
  Ross, Manager, Jarret & Lam Consulting\n\"I have been to a few networ
 king groups but I have to admit that the \"MyTeam\" experience was by 
 far the best!\" James Mahaffey, Cluster Sales Manager at Surya Hotel
 s\nCOST: £10 meeting fee (plus everybody buys their own lunch or dr
 ink) First-time Visitor offer: FREE (just pay for your lunch)\nBOOKI
 NG: Please CLICK HERE to book \nWhen this event shows SOLD OUT, pl
 ease email keith@networkinginsurrey.co.uk to go on the waiting list
 . 'No shows' can't advance book again, but can go on the waiting list
 . \nMAP\nAmple free parking\n \n\nFor more information visit https:/
 /networkinginsurrey.co.uk/events/myteam-lunchtime-roundtable-headley-5
DTSTART;TZID=Europe/London:20170426T123000
DTEND;TZID=Europe/London:20170426T140000
CATEGORIES:lunchtime, networking, and, business, discussion
LOCATION:The Cock Inn KT18 6LE
WEBSITE:http://cockinnheadley.co.uk/
URL:http://cockinnheadley.co.uk/
CONTACT:07894 128876
ORGANIZER:Jeremy Webb and Keith Grover
ATTACH;FMTTYPE="image/jpeg":http://storage.ning.com/topology/rest/1.0/
 file/get/211213495?profile=original
ATTENDEE;ROLE=REQ-PARTICIPANT;PARTSTAT=ACCEPTED;RSVP=TRUE;CN="Jeremy W
 ebb":https://networkinginsurrey.co.uk/profile/JeremyWebb
END:VEVENT
END:VCALENDAR
