BEGIN:VCALENDAR
PRODID:NingEventWidget-v1
VERSION:2.0
METHOD:PUBLISH
BEGIN:VTIMEZONE
TZID:Europe/London
X-LIC-LOCATION:Europe/London
BEGIN:DAYLIGHT
TZOFFSETFROM:+0000
TZOFFSETTO:+0100
TZNAME:BST
DTSTART:19700329T010000
RRULE:FREQ=YEARLY;BYMONTH=3;BYDAY=-1SU
END:DAYLIGHT
BEGIN:STANDARD
TZOFFSETFROM:+0100
TZOFFSETTO:+0000
TZNAME:GMT
DTSTART:19701025T020000
RRULE:FREQ=YEARLY;BYMONTH=10;BYDAY=-1SU
END:STANDARD
END:VTIMEZONE
BEGIN:VEVENT
UID:4626108:Event:86782
DTSTAMP:20260424T010209Z
SUMMARY:MyTeam Lunchtime RoundTable, Headley
DESCRIPTION:MyTeam Mole Valley WorkingLunch at The Cock Inn\nMy Team N
 etwork was developed by Keith Grover, creator of Networking in Surrey.
  Find out how it all works at this informal lunchtime session of our n
 ew Mole Valley Group hosted by Jeremy Webb.\nYou can get a decent lun
 ch and a drink for just £10 with the venue's exclusive MyTeam Menu! 
 \nToday's RoundTable Business Topic  (chosen by Member vote):  'Em
 ail Marketing'                \n\nThanks Keith! I was very pl
 eased I joined the Working Lunch session with you all - really benefic
 ial.\"Kirsten Brown, Independent Consultant, Arbonne\n\"Great meeting 
 Keith. Look forward to the next one...\" Mark Hughes, Funky Social Me
 dia\n\"A big thank you to everyone at today’s session for making me 
 feel so welcome.\" Rhona Byrne, International Reiki Master/Teacher & 
 Spiritual Life Coach\n\"Really enjoyed MyTeam Network at The Fairmile 
 - a breath of fresh air from all other Networking Groups! Loved it and
  will attend again.\" 'Magic' Theo Theodoris Magician & Mobile Spor
 ts Massage Therapist\n\"How refreshing - a networking meeting where no
 body tried to sell me anything!\" David Ross, Manager, Jarret & Lam C
 onsulting\n\"I have been to a few networking groups but I have to admi
 t that the \"MyTeam\" experience was by far the best!\" James Mahaffe
 y, Cluster Sales Manager at Surya Hotels\nCOST: £10 meeting fee (p
 lus everybody buys their own lunch or drink) First-time Visitor offer:
  FREE (just pay for your lunch)\nBOOKING: Please CLICK HERE to bo
 ok \nWhen this event shows SOLD OUT, please email keith@networkingin
 surrey.co.uk to go on the waiting list. 'No shows' can't advance bo
 ok again, but can go on the waiting list. \nMAP\nAmple free parking\n
  \n\nFor more information visit https://networkinginsurrey.co.uk/even
 ts/myteam-lunchtime-roundtable-headley-4
DTSTART;TZID=Europe/London:20170412T123000
DTEND;TZID=Europe/London:20170412T140000
CATEGORIES:lunchtime, networking, and, business, discussion
LOCATION:The Cock Inn KT18 6LE
WEBSITE:http://cockinnheadley.co.uk/
URL:http://cockinnheadley.co.uk/
CONTACT:07894 128876
ORGANIZER:Jeremy Webb and Keith Grover
ATTACH;FMTTYPE="image/jpeg":http://storage.ning.com/topology/rest/1.0/
 file/get/211213495?profile=original
ATTENDEE;ROLE=REQ-PARTICIPANT;PARTSTAT=ACCEPTED;RSVP=TRUE;CN="Jeremy W
 ebb":https://networkinginsurrey.co.uk/profile/JeremyWebb
ATTENDEE;ROLE=REQ-PARTICIPANT;PARTSTAT=ACCEPTED;RSVP=TRUE;CN="Alan Rog
 ers":https://networkinginsurrey.co.uk/profile/DreamGeniusLtd
ATTENDEE;ROLE=REQ-PARTICIPANT;PARTSTAT=ACCEPTED;RSVP=TRUE;CN="Keith Gr
 over, NiS Founder":https://networkinginsurrey.co.uk/profile/KeithGrove
 r
END:VEVENT
END:VCALENDAR
