BEGIN:VCALENDAR
PRODID:NingEventWidget-v1
VERSION:2.0
METHOD:PUBLISH
BEGIN:VTIMEZONE
TZID:Europe/London
X-LIC-LOCATION:Europe/London
BEGIN:DAYLIGHT
TZOFFSETFROM:+0000
TZOFFSETTO:+0100
TZNAME:BST
DTSTART:19700329T010000
RRULE:FREQ=YEARLY;BYMONTH=3;BYDAY=-1SU
END:DAYLIGHT
BEGIN:STANDARD
TZOFFSETFROM:+0100
TZOFFSETTO:+0000
TZNAME:GMT
DTSTART:19701025T020000
RRULE:FREQ=YEARLY;BYMONTH=10;BYDAY=-1SU
END:STANDARD
END:VTIMEZONE
BEGIN:VEVENT
UID:4626108:Event:86672
DTSTAMP:20260424T210141Z
SUMMARY:MyTeam Lunchtime RoundTable, Headley
DESCRIPTION:MyTeam Mole Valley WorkingLunch at The Cock Inn\nMy Team N
 etwork was developed by Keith Grover, creator of Networking in Surrey.
  Find out how it all works at this informal lunchtime session of our n
 ew Mole Valley Group hosted byÂ Jeremy Webb.\nYou can get a decent lun
 ch and a drink for just Â£10 with the venue's exclusive MyTeam Menu!Â 
 \nToday's RoundTable Business TopicÂ Â (chosen by Member vote):Â Â 'Th
 e new-look LinkedIn - why can't I find anything anymore?' Â  Â  Â  Â  
 Â  Â  Â  Â \n\nThanks Keith!Â I was very pleased I joined the Working 
 Lunch session with you all - really beneficial.\"Kirsten Brown, Indepe
 ndent Consultant, Arbonne\n\"Great meeting Keith. Look forward to the 
 next one...\"Â Mark Hughes, Funky Social Media\n\"A big thank you to e
 veryone at todayâ€™s session for making me feel so welcome.\" Rhona By
 rne,Â International Reiki Master/Teacher & Spiritual Life Coach\n\"Rea
 lly enjoyed MyTeam Network at The Fairmile - a breath of fresh air fro
 m all other Networking Groups! Loved it and will attend again.\"Â 'Mag
 ic' Theo TheodorisÂ Magician &Â Mobile Sports Massage Therapist\n\"How
  refreshing - a networking meeting where nobody tried to sell me anyth
 ing!\"Â David Ross, Manager, Jarret & Lam Consulting\n\"I have been to
  a few networking groups but I have to admit that the \"MyTeam\" exper
 ience was by far the best!\"Â James Mahaffey,Â Cluster Sales Manager a
 t Surya Hotels\nCOST:Â Â£10Â meeting fee (plus everybody buys their ow
 n lunch or drink) First-time Visitor offer:Â FREEÂ (just pay for your 
 lunch)\nBOOKING:Â PleaseÂ CLICK HEREÂ to bookÂ \nWhen this event shows
  SOLD OUT, please emailÂ keith@networkinginsurrey.co.ukÂ to go on theÂ
  waiting list.Â 'No shows' can't advance book again, but can go on the
  waiting list.Â \nMAP\nAmple free parking\nÂ \n\nFor more information 
 visit https://networkinginsurrey.co.uk/events/myteam-lunchtime-roundta
 ble-headley-3
DTSTART;TZID=Europe/London:20170322T123000
DTEND;TZID=Europe/London:20170322T140000
CATEGORIES:lunchtime, networking, and, business, discussion
LOCATION:The Cock Inn KT18 6LE
WEBSITE:http://cockinnheadley.co.uk/
URL:http://cockinnheadley.co.uk/
CONTACT:07894 128876
ORGANIZER:Jeremy Webb & Keith Grover
ATTACH;FMTTYPE="image/jpeg":http://storage.ning.com/topology/rest/1.0/
 file/get/2591457688?profile=original
ATTENDEE;ROLE=REQ-PARTICIPANT;PARTSTAT=ACCEPTED;RSVP=TRUE;CN="Keith Gr
 over, NiS Founder":https://networkinginsurrey.co.uk/profile/KeithGrove
 r
ATTENDEE;ROLE=REQ-PARTICIPANT;PARTSTAT=ACCEPTED;RSVP=TRUE;CN="Jeremy W
 ebb":https://networkinginsurrey.co.uk/profile/JeremyWebb
END:VEVENT
END:VCALENDAR
