BEGIN:VCALENDAR
PRODID:NingEventWidget-v1
VERSION:2.0
METHOD:PUBLISH
BEGIN:VTIMEZONE
TZID:Europe/London
X-LIC-LOCATION:Europe/London
BEGIN:DAYLIGHT
TZOFFSETFROM:+0000
TZOFFSETTO:+0100
TZNAME:BST
DTSTART:19700329T010000
RRULE:FREQ=YEARLY;BYMONTH=3;BYDAY=-1SU
END:DAYLIGHT
BEGIN:STANDARD
TZOFFSETFROM:+0100
TZOFFSETTO:+0000
TZNAME:GMT
DTSTART:19701025T020000
RRULE:FREQ=YEARLY;BYMONTH=10;BYDAY=-1SU
END:STANDARD
END:VTIMEZONE
BEGIN:VEVENT
UID:4626108:Event:100956
DTSTAMP:20260422T031002Z
SUMMARY:MyTeam Lunchtime RoundTable, Headley
DESCRIPTION:MyTeam Mole Valley WorkingLunch at The Cock Inn\r\nMy Team
  Network was developed by Keith Grover, creator of Networking in Surre
 y. We have re-launched ourÂ  Mole Valley Group hosted byÂ Jeremy WebbÂ
  - now on the second and fourth TUESDAY of each month...Â \r\nYou can 
 get a decent lunch and a drink for just Â£10 with the venue's exclusiv
 e MyTeam MenuÂ \r\nToday's RoundTable Business TopicÂ  '...to be chose
 n by Member vote at our 9/10 meeting'\r\n\r\nThanks Keith!Â I was very
  pleased I joined the Working Lunch session with you all - really bene
 ficial.\"Kirsten Brown, Independent Consultant, Arbonne\r\n\"Great mee
 ting Keith. Look forward to the next one...\"Mark Hughes, Funky Social
  Media\r\n\"A big thank you to everyone at todayâ€™s session for makin
 g me feel so welcome.\" Rhona Byrne,Â International Reiki Master/Teach
 er & Spiritual Life Coach\r\n\"Really enjoyed MyTeam Network at The Fa
 irmile - a breath of fresh air from all other Networking Groups! Loved
  it and will attend again.\"Â 'Magic' Theo TheodorisÂ Magician &Â Mobi
 le Sports Massage Therapist\r\n\"How refreshing - a networking meeting
  where nobody tried to sell me anything!\"Â Â David Ross, Manager, Jar
 ret & Lam Consulting\r\n\"I have been to a few networking groups but I
  have to admit that the \"MyTeam\" experience was by far the best!\"Ja
 mes Mahaffey,Â Cluster Sales Manager at Surya Hotels\r\nCOST:Â Â Â£10Â
  - First time Visitors FreeÂ - book a free place and justÂ pay for you
 r lunch! ****\r\nBOOKING:Â PleaseÂ CLICK HEREÂ to bookÂ \r\nWhen this 
 event shows SOLD OUT, please emailÂ keith@networkinginsurrey.co.ukÂ to
  go on theÂ waiting list.'No shows' can't advance book again, but can 
 go on the waiting list.Â \r\nMAP\r\nAmple free parking\n\nFor more inf
 ormation visit https://networkinginsurrey.co.uk/events/myteam-lunchtim
 e-roundtable-headley-26
DTSTART;TZID=Europe/London:20181023T123000
DTEND;TZID=Europe/London:20181023T140000
CATEGORIES:lunchtime, networking, and, business, discussion
LOCATION:The Cock Inn KT18 6LE
WEBSITE:http://cockinnheadley.co.uk/
URL:http://cockinnheadley.co.uk/
CONTACT:07894 128876
ORGANIZER:Jeremy Webb
ATTACH;FMTTYPE="image/jpeg":http://storage.ning.com/topology/rest/1.0/
 file/get/211213495?profile=original
ATTENDEE;ROLE=REQ-PARTICIPANT;PARTSTAT=ACCEPTED;RSVP=TRUE;CN="Keith Gr
 over, NiS Founder":https://networkinginsurrey.co.uk/profile/KeithGrove
 r
END:VEVENT
END:VCALENDAR
