BEGIN:VCALENDAR
PRODID:NingEventWidget-v1
VERSION:2.0
METHOD:PUBLISH
BEGIN:VTIMEZONE
TZID:Europe/London
X-LIC-LOCATION:Europe/London
BEGIN:DAYLIGHT
TZOFFSETFROM:+0000
TZOFFSETTO:+0100
TZNAME:BST
DTSTART:19700329T010000
RRULE:FREQ=YEARLY;BYMONTH=3;BYDAY=-1SU
END:DAYLIGHT
BEGIN:STANDARD
TZOFFSETFROM:+0100
TZOFFSETTO:+0000
TZNAME:GMT
DTSTART:19701025T020000
RRULE:FREQ=YEARLY;BYMONTH=10;BYDAY=-1SU
END:STANDARD
END:VTIMEZONE
BEGIN:VEVENT
UID:4626108:Event:101025
DTSTAMP:20260422T055416Z
SUMMARY:MyTeam Lunchtime RoundTable, Headley
DESCRIPTION:MyTeam Mole Valley WorkingLunch at The Cock Inn\r\nMy Team
  Network was developed by Keith Grover, creator of Networking in Surre
 y. We have re-launched ourÂ  Mole Valley Group hosted byÂ Jeremy WebbÂ
  - now on the second and fourth TUESDAY of each month...Â \r\nYou can 
 get a decent lunch and a drink for just Â£10 with the venue's exclusiv
 e MyTeam MenuÂ \r\nToday's RoundTable Business TopicÂ  'LinkedIn - har
 nessing the full power of the re-designed number one online platform f
 or business'\r\n\r\nThanks Keith!Â I was very pleased I joined the Wor
 king Lunch session with you all - really beneficial.\"Kirsten Brown, I
 ndependent Consultant, Arbonne\r\n\"Great meeting Keith. Look forward 
 to the next one...\"Mark Hughes, Funky Social Media\r\n\"A big thank y
 ou to everyone at todayâ€™s session for making me feel so welcome.\" R
 hona Byrne,Â International Reiki Master/Teacher & Spiritual Life Coach
 \r\n\"Really enjoyed MyTeam Network at The Fairmile - a breath of fres
 h air from all other Networking Groups! Loved it and will attend again
 .\"Â 'Magic' Theo TheodorisÂ Magician &Â Mobile Sports Massage Therapi
 st\r\n\"How refreshing - a networking meeting where nobody tried to se
 ll me anything!\"Â Â David Ross, Manager, Jarret & Lam Consulting\r\n\
 "I have been to a few networking groups but I have to admit that the \
 "MyTeam\" experience was by far the best!\"James Mahaffey,Â Cluster Sa
 les Manager at Surya Hotels\r\nCOST:Â Â Â£10Â - First time Visitors Fr
 eeÂ - book a free place and justÂ pay for your lunch! ****\r\nBOOKING:
 Â PleaseÂ CLICK HEREÂ to bookÂ \r\nWhen this event shows SOLD OUT, ple
 ase emailÂ keith@networkinginsurrey.co.ukÂ to go on theÂ waiting list.
 'No shows' can't advance book again, but can go on the waiting list.Â 
 \r\nMAP\r\nAmple free parking\n\nFor more information visit https://ne
 tworkinginsurrey.co.uk/events/myteam-lunchtime-roundtable-headley-24
DTSTART;TZID=Europe/London:20181009T123000
DTEND;TZID=Europe/London:20181009T140000
CATEGORIES:lunchtime, networking, and, business, discussion
LOCATION:The Cock Inn KT18 6LE
WEBSITE:http://cockinnheadley.co.uk/
URL:http://cockinnheadley.co.uk/
CONTACT:07894 128876
ORGANIZER:Jeremy Webb
ATTACH;FMTTYPE="image/jpeg":http://storage.ning.com/topology/rest/1.0/
 file/get/211213495?profile=original
ATTENDEE;ROLE=REQ-PARTICIPANT;PARTSTAT=ACCEPTED;RSVP=TRUE;CN="Keith Gr
 over, NiS Founder":https://networkinginsurrey.co.uk/profile/KeithGrove
 r
ATTENDEE;ROLE=REQ-PARTICIPANT;PARTSTAT=ACCEPTED;RSVP=TRUE;CN="Jeremy W
 ebb":https://networkinginsurrey.co.uk/profile/JeremyWebb
END:VEVENT
END:VCALENDAR
