BEGIN:VCALENDAR
PRODID:NingEventWidget-v1
VERSION:2.0
METHOD:PUBLISH
BEGIN:VTIMEZONE
TZID:Europe/London
X-LIC-LOCATION:Europe/London
BEGIN:DAYLIGHT
TZOFFSETFROM:+0000
TZOFFSETTO:+0100
TZNAME:BST
DTSTART:19700329T010000
RRULE:FREQ=YEARLY;BYMONTH=3;BYDAY=-1SU
END:DAYLIGHT
BEGIN:STANDARD
TZOFFSETFROM:+0100
TZOFFSETTO:+0000
TZNAME:GMT
DTSTART:19701025T020000
RRULE:FREQ=YEARLY;BYMONTH=10;BYDAY=-1SU
END:STANDARD
END:VTIMEZONE
BEGIN:VEVENT
UID:4626108:Event:86373
DTSTAMP:20260424T045812Z
SUMMARY:MyTeam Lunchtime RoundTable, Headley
DESCRIPTION:MyTeam Mole Valley WorkingLunch at The Cock Inn\nMy Team N
 etwork was developed by Keith Grover, creator of Networking in Surrey.
  Find out how it all works at this informal lunchtime session of our n
 ew Mole Valley Group hosted by Jeremy Webb.\nYou can get a decent lun
 ch and a drink for just £10 with the venue's exclusive MyTeam Menu! 
 \nToday's RoundTable Business Topic  (chosen by Member vote): 'Vide
 o Marketing for Business - YouTube, Doodle Videos, Facebook Live... ar
 e you up to speed?'            \n\nThanks Keith! I was very ple
 ased I joined the Working Lunch session with you all - really benefici
 al.\"Kirsten Brown, Independent Consultant, Arbonne\n\"Keep up the goo
 d work. MyTeam is a cracking networking event and I thoroughly enjoy a
 ttending the Mole Valley one...\" Alan Rogers, Dream Genius\n\"A big 
 thank you to everyone at today’s session for making me feel so welco
 me.\" Rhona Byrne, International Reiki Master & Spiritual Life Coach\
 n\"Really enjoyed MyTeam - a breath of fresh air from all other Networ
 king Groups! Loved it and will attend again.\" 'Magic' Theo Theodoris
  Magician & Mobile Sports Massage Therapist\n\"How refreshing - a ne
 tworking meeting where nobody tried to sell me anything!\" David Ross
 , Manager, Jarret & Lam Consulting\n\"I have been to a few networking 
 groups but I have to admit that the \"MyTeam\" experience was by far t
 he best!\" James Mahaffey, Cluster Sales Manager at Surya Hotels\nCO
 ST: £10 meeting fee (plus everybody buys their own lunch or drink) 
 First-time Visitor offer: FREE (just pay for your lunch)\nBOOKING: 
 Please CLICK HERE to book \nWhen this event shows SOLD OUT, please 
 email keith@networkinginsurrey.co.uk to go on the waiting list. 'No 
 shows' can't advance book again, but can go on the waiting list. \nMA
 P\nAmple free parking\n \n\nFor more information visit https://networ
 kinginsurrey.co.uk/events/myteam-lunchtime-roundtable-headley-2
DTSTART;TZID=Europe/London:20170308T123000
DTEND;TZID=Europe/London:20170308T140000
CATEGORIES:lunchtime, networking, and, business, discussion
LOCATION:The Cock Inn KT18 6LE
WEBSITE:http://cockinnheadley.co.uk/
URL:http://cockinnheadley.co.uk/
CONTACT:07894 128876
ORGANIZER:Jeremy Webb & Keith Grover
ATTACH;FMTTYPE="image/jpeg":http://storage.ning.com/topology/rest/1.0/
 file/get/2591457688?profile=original
ATTENDEE;ROLE=REQ-PARTICIPANT;PARTSTAT=ACCEPTED;RSVP=TRUE;CN="Lord Ham
 ilton of Glencoe":https://networkinginsurrey.co.uk/profile/BrianIanHam
 ilton
ATTENDEE;ROLE=REQ-PARTICIPANT;PARTSTAT=ACCEPTED;RSVP=TRUE;CN="Jeremy W
 ebb":https://networkinginsurrey.co.uk/profile/JeremyWebb
ATTENDEE;ROLE=REQ-PARTICIPANT;PARTSTAT=ACCEPTED;RSVP=TRUE;CN="Keith Gr
 over, NiS Founder":https://networkinginsurrey.co.uk/profile/KeithGrove
 r
END:VEVENT
END:VCALENDAR
