BEGIN:VCALENDAR
PRODID:NingEventWidget-v1
VERSION:2.0
METHOD:PUBLISH
BEGIN:VTIMEZONE
TZID:Europe/London
X-LIC-LOCATION:Europe/London
BEGIN:DAYLIGHT
TZOFFSETFROM:+0000
TZOFFSETTO:+0100
TZNAME:BST
DTSTART:19700329T010000
RRULE:FREQ=YEARLY;BYMONTH=3;BYDAY=-1SU
END:DAYLIGHT
BEGIN:STANDARD
TZOFFSETFROM:+0100
TZOFFSETTO:+0000
TZNAME:GMT
DTSTART:19701025T020000
RRULE:FREQ=YEARLY;BYMONTH=10;BYDAY=-1SU
END:STANDARD
END:VTIMEZONE
BEGIN:VEVENT
UID:4626108:Event:96146
DTSTAMP:20260422T220210Z
SUMMARY:MyTeam Lunchtime RoundTable, Headley
DESCRIPTION:MyTeam Mole Valley WorkingLunch at The Cock Inn\nMy Team N
 etwork was developed by Keith Grover, creator of Networking in Surrey.
  We have re-launched ourÂ  Mole Valley Group hosted byÂ Jeremy WebbÂ -
  now on the second and fourth TUESDAY of each month...Â \nYou can get 
 a decent lunch and a drink for just Â£10 with the venue's exclusive My
 Team MenuÂ \nToday's RoundTable Business TopicÂ Â (chosen by Member vo
 te): \"Closing the sale - some people just forget to ask for it!\"\n\n
 Thanks Keith!Â I was very pleased I joined the Working Lunch session w
 ith you all - really beneficial.\"Kirsten Brown, Independent Consultan
 t, Arbonne\n\"Great meeting Keith. Look forward to the next one...\"Ma
 rk Hughes, Funky Social Media\n\"A big thank you to everyone at todayâ
 €™s session for making me feel so welcome.\" Rhona Byrne,Â Internation
 al Reiki Master/Teacher & Spiritual Life Coach\n\"Really enjoyed MyTea
 m Network at The Fairmile - a breath of fresh air from all other Netwo
 rking Groups! Loved it and will attend again.\"Â 'Magic' Theo Theodori
 sÂ Magician &Â Mobile Sports Massage Therapist\n\"How refreshing - a n
 etworking meeting where nobody tried to sell me anything!\"Â Â David R
 oss, Manager, Jarret & Lam Consulting\n\"I have been to a few networki
 ng groups but I have to admit that the \"MyTeam\" experience was by fa
 r the best!\"James Mahaffey,Â Cluster Sales Manager at Surya Hotels\nC
 OST:Â Â Â£10Â - First time Visitors FreeÂ - book a free place and just
 Â pay for your lunch! ****\nBOOKING:Â PleaseÂ CLICK HEREÂ to bookÂ \nW
 hen this event shows SOLD OUT, please emailÂ keith@networkinginsurrey.
 co.ukÂ to go on theÂ waiting list.'No shows' can't advance book again,
  but can go on the waiting list.Â \nMAP\nAmple free parking\n\nFor mor
 e information visit https://networkinginsurrey.co.uk/events/myteam-lun
 chtime-roundtable-headley-17
DTSTART;TZID=Europe/London:20180327T123000
DTEND;TZID=Europe/London:20180327T140000
CATEGORIES:lunchtime, networking, and, business, discussion
LOCATION:The Cock Inn KT18 6LE
WEBSITE:http://cockinnheadley.co.uk/
URL:http://cockinnheadley.co.uk/
CONTACT:07894 128876
ORGANIZER;CN="Jeremy Webb":https://networkinginsurrey.co.uk/profile/Je
 remyWebb
ATTACH;FMTTYPE="image/jpeg":http://storage.ning.com/topology/rest/1.0/
 file/get/211213495?profile=original
ATTENDEE;ROLE=REQ-PARTICIPANT;PARTSTAT=ACCEPTED;RSVP=TRUE;CN="Jeremy W
 ebb":https://networkinginsurrey.co.uk/profile/JeremyWebb
END:VEVENT
END:VCALENDAR
