BEGIN:VCALENDAR
PRODID:NingEventWidget-v1
VERSION:2.0
METHOD:PUBLISH
BEGIN:VTIMEZONE
TZID:Europe/London
X-LIC-LOCATION:Europe/London
BEGIN:DAYLIGHT
TZOFFSETFROM:+0000
TZOFFSETTO:+0100
TZNAME:BST
DTSTART:19700329T010000
RRULE:FREQ=YEARLY;BYMONTH=3;BYDAY=-1SU
END:DAYLIGHT
BEGIN:STANDARD
TZOFFSETFROM:+0100
TZOFFSETTO:+0000
TZNAME:GMT
DTSTART:19701025T020000
RRULE:FREQ=YEARLY;BYMONTH=10;BYDAY=-1SU
END:STANDARD
END:VTIMEZONE
BEGIN:VEVENT
UID:4626108:Event:88853
DTSTAMP:20260423T181645Z
SUMMARY:MyTeam Lunchtime RoundTable, Headley
DESCRIPTION:MyTeam Mole Valley WorkingLunch at The Cock Inn\nMy Team N
 etwork was developed by Keith Grover, creator of Networking in Surrey.
  Find out how it all works at this informal lunchtime session of our n
 ew Mole Valley Group hosted by Jeremy Webb.\nYou can get a decent lun
 ch and a drink for just £10 with the venue's exclusive MyTeam Menu! 
 \nToday's RoundTable Business Topic  (chosen by Member vote):to be c
 hosen at the meeting on 14th June\n               \n\nThanks K
 eith! I was very pleased I joined the Working Lunch session with you 
 all - really beneficial.\"Kirsten Brown, Independent Consultant, Arbon
 ne\n\"Great meeting Keith. Look forward to the next one...\" Mark Hug
 hes, Funky Social Media\n\"A big thank you to everyone at today’s se
 ssion for making me feel so welcome.\" Rhona Byrne, International Rei
 ki Master/Teacher & Spiritual Life Coach\n\"Really enjoyed MyTeam Netw
 ork at The Fairmile - a breath of fresh air from all other Networking 
 Groups! Loved it and will attend again.\" 'Magic' Theo Theodoris Mag
 ician & Mobile Sports Massage Therapist\n\"How refreshing - a network
 ing meeting where nobody tried to sell me anything!\" David Ross, Man
 ager, Jarret & Lam Consulting\n\"I have been to a few networking group
 s but I have to admit that the \"MyTeam\" experience was by far the be
 st!\" James Mahaffey, Cluster Sales Manager at Surya Hotels\nCOST: 
 £10 meeting fee (plus everybody buys their own lunch or drink) First
 -time Visitor offer: FREE (just pay for your lunch)\nBOOKING: Pleas
 e CLICK HERE to book \nWhen this event shows SOLD OUT, please email
  keith@networkinginsurrey.co.uk to go on the waiting list. 'No sho
 ws' can't advance book again, but can go on the waiting list. \nMAP\n
 Ample free parking\n \n\nFor more information visit https://networkin
 ginsurrey.co.uk/events/myteam-lunchtime-roundtable-headley-10
DTSTART;TZID=Europe/London:20170628T123000
DTEND;TZID=Europe/London:20170628T140000
CATEGORIES:lunchtime, networking, and, business, discussion
LOCATION:The Cock Inn KT18 6LE
WEBSITE:http://cockinnheadley.co.uk/
URL:http://cockinnheadley.co.uk/
CONTACT:07894 128876
ORGANIZER:Jeremy Webb and Keith Grover
ATTACH;FMTTYPE="image/jpeg":http://storage.ning.com/topology/rest/1.0/
 file/get/211213495?profile=original
ATTENDEE;ROLE=REQ-PARTICIPANT;PARTSTAT=ACCEPTED;RSVP=TRUE;CN="Jeremy W
 ebb":https://networkinginsurrey.co.uk/profile/JeremyWebb
END:VEVENT
END:VCALENDAR
