BEGIN:VCALENDAR
PRODID:NingEventWidget-v1
VERSION:2.0
METHOD:PUBLISH
BEGIN:VTIMEZONE
TZID:Europe/London
X-LIC-LOCATION:Europe/London
BEGIN:DAYLIGHT
TZOFFSETFROM:+0000
TZOFFSETTO:+0100
TZNAME:BST
DTSTART:19700329T010000
RRULE:FREQ=YEARLY;BYMONTH=3;BYDAY=-1SU
END:DAYLIGHT
BEGIN:STANDARD
TZOFFSETFROM:+0100
TZOFFSETTO:+0000
TZNAME:GMT
DTSTART:19701025T020000
RRULE:FREQ=YEARLY;BYMONTH=10;BYDAY=-1SU
END:STANDARD
END:VTIMEZONE
BEGIN:VEVENT
UID:4626108:Event:85726
DTSTAMP:20260424T051027Z
SUMMARY:MyTeam Lunchtime RoundTable, Headley
DESCRIPTION:MyTeam Mole Valley WorkingLunch at The Cock Inn\nMy Team N
 etwork was developed by Keith Grover, creator of Networking in Surrey.
  Find out how it all works at this informal lunchtime session of our n
 ew Mole Valley Group hosted by Jeremy Webb.\nYou can get a decent lun
 ch and a drink for just £10 with the venue's exclusive MyTeam Menu! 
 \nToday's RoundTable Business Topic  (chosen by Member vote):  'Fi
 nancial Management for SMEs - show me the money!'              
   \n\nThanks Keith! I was very pleased I joined the Working Lunch se
 ssion with you all - really beneficial.\"Kirsten Brown, Independent Co
 nsultant, Arbonne\n\"Great meeting Keith. Look forward to the next one
 ...\" Mark Hughes, Funky Social Media\n\"A big thank you to everyone 
 at today’s session for making me feel so welcome.\" Rhona Byrne, In
 ternational Reiki Master/Teacher & Spiritual Life Coach\n\"Really enjo
 yed MyTeam Network at The Fairmile - a breath of fresh air from all ot
 her Networking Groups! Loved it and will attend again.\" 'Magic' Theo
  Theodoris Magician & Mobile Sports Massage Therapist\n\"How refresh
 ing - a networking meeting where nobody tried to sell me anything!\" 
 David Ross, Manager, Jarret & Lam Consulting\n\"I have been to a few n
 etworking groups but I have to admit that the \"MyTeam\" experience wa
 s by far the best!\" James Mahaffey, Cluster Sales Manager at Surya 
 Hotels\nCOST: £10 meeting fee (plus everybody buys their own lunch 
 or drink) First-time Visitor offer: FREE (just pay for your lunch)\n
 BOOKING: Please CLICK HERE to book \nWhen this event shows SOLD OU
 T, please email keith@networkinginsurrey.co.uk to go on the waiting
  list. 'No shows' can't advance book again, but can go on the waiting
  list. \nMAP\nAmple free parking\n \n\nFor more information visit ht
 tps://networkinginsurrey.co.uk/events/myteam-lunchtime-roundtable-head
 ley-1
DTSTART;TZID=Europe/London:20170222T123000
DTEND;TZID=Europe/London:20170222T140000
CATEGORIES:lunchtime, networking, and, business, discussion
LOCATION:The Cock Inn KT18 6LE
WEBSITE:http://cockinnheadley.co.uk/
URL:http://cockinnheadley.co.uk/
CONTACT:07894 128876
ORGANIZER:Jeremy Webb & Keith Grover
ATTACH;FMTTYPE="image/jpeg":http://storage.ning.com/topology/rest/1.0/
 file/get/2591457688?profile=original
ATTENDEE;ROLE=REQ-PARTICIPANT;PARTSTAT=ACCEPTED;RSVP=TRUE;CN="Keith Gr
 over, NiS Founder":https://networkinginsurrey.co.uk/profile/KeithGrove
 r
ATTENDEE;ROLE=REQ-PARTICIPANT;PARTSTAT=TENTATIVE;RSVP=TRUE;CN="Lord Ha
 milton of Glencoe":https://networkinginsurrey.co.uk/profile/BrianIanHa
 milton
END:VEVENT
END:VCALENDAR
