BEGIN:VCALENDAR
PRODID:NingEventWidget-v1
VERSION:2.0
METHOD:PUBLISH
BEGIN:VTIMEZONE
TZID:Europe/London
X-LIC-LOCATION:Europe/London
BEGIN:DAYLIGHT
TZOFFSETFROM:+0000
TZOFFSETTO:+0100
TZNAME:BST
DTSTART:19700329T010000
RRULE:FREQ=YEARLY;BYMONTH=3;BYDAY=-1SU
END:DAYLIGHT
BEGIN:STANDARD
TZOFFSETFROM:+0100
TZOFFSETTO:+0000
TZNAME:GMT
DTSTART:19701025T020000
RRULE:FREQ=YEARLY;BYMONTH=10;BYDAY=-1SU
END:STANDARD
END:VTIMEZONE
BEGIN:VEVENT
UID:4626108:Event:97633
DTSTAMP:20260422T145530Z
SUMMARY:MyTeam Lunchtime RoundTable, Cobham
DESCRIPTION:MyTeam WorkingLunch at The Fairmile\r\n\r\nMy Team Network
  was developed by Keith Grover, creator of Networking in Surrey. Find 
 out how it all works at this informal lunchtime session.\r\nYou can ge
 t a decent lunch for around £6 (see sample menu) - or just join me wi
 th a drink as I enjoy mine!  \r\nToday's RoundTable Business Topic (c
 hosen by Member vote at the previous meeting): 'My Greatest Inspiratio
 n - share a book, guru, philosophy or personal connection who has insp
 ired and motivated you' \r\n\r\n\"Great meeting Keith. Look forward to
  the next one...\" Mark Hughes, Funky Social Media\r\n\"A big thank y
 ou to everyone at today’s session for making me feel so welcome.\" R
 hona Byrne, International Reiki Master/Teacher & Spiritual Life Coach
 \r\n\"Really enjoyed MyTeam Network at The Fairmile - a breath of fres
 h air from all other Networking Groups! Loved it and will attend again
 .\" 'Magic' Theo Theodoris Magician & Mobile Sports Massage Therapi
 st\r\n\"How refreshing - a networking meeting where nobody tried to se
 ll me anything!\" David Ross, Manager, Jarret & Lam Consulting\r\n\"I 
 have been to a few networking groups but I have to admit that the \"My
 Team\" experience was by far the best!\" James Mahaffey, Cluster Sal
 es Manager at Surya Hotels\r\nCOST: £10 plus everybody buys their o
 wn lunch or drink. (FREE for MyTeam Founder Members) \r\nBOOKING: 
 Please CLICK HERE to book your place\r\nWhen the event shows as SOLD
  OUT, please email keith@networkinginsurrey.co.uk to go on the waiti
 ng list. 'No shows' can't advance book again, but can go on the waiti
 ng list.\r\nMAP\r\nAmple free parking\n\nFor more information visit ht
 tps://networkinginsurrey.co.uk/events/myteam-lunchtime-roundtable-cobh
 am-966
DTSTART;TZID=Europe/London:20180501T123000
DTEND;TZID=Europe/London:20180501T140000
CATEGORIES:lunchtime, free, networking_skills, cobham
LOCATION:The Fairmile and Premier Inn KT11 1BW
WEBSITE:
URL:
CONTACT:01932 843814
ORGANIZER;CN="Keith Grover, NiS Founder":https://networkinginsurrey.co
 .uk/profile/KeithGrover
ATTACH;FMTTYPE="image/jpeg":http://storage.ning.com/topology/rest/1.0/
 file/get/211213495?profile=original
ATTENDEE;ROLE=REQ-PARTICIPANT;PARTSTAT=ACCEPTED;RSVP=TRUE;CN="Keith Gr
 over, NiS Founder":https://networkinginsurrey.co.uk/profile/KeithGrove
 r
END:VEVENT
END:VCALENDAR
