BEGIN:VCALENDAR
PRODID:NingEventWidget-v1
VERSION:2.0
METHOD:PUBLISH
BEGIN:VTIMEZONE
TZID:Europe/London
X-LIC-LOCATION:Europe/London
BEGIN:DAYLIGHT
TZOFFSETFROM:+0000
TZOFFSETTO:+0100
TZNAME:BST
DTSTART:19700329T010000
RRULE:FREQ=YEARLY;BYMONTH=3;BYDAY=-1SU
END:DAYLIGHT
BEGIN:STANDARD
TZOFFSETFROM:+0100
TZOFFSETTO:+0000
TZNAME:GMT
DTSTART:19701025T020000
RRULE:FREQ=YEARLY;BYMONTH=10;BYDAY=-1SU
END:STANDARD
END:VTIMEZONE
BEGIN:VEVENT
UID:4626108:Event:268894
DTSTAMP:20260422T125038Z
SUMMARY:MyTeam Lunchtime Christmas Special, Cobham
DESCRIPTION:Christmas MyTeam WorkingLunch at The Fairmile\r\n\r\nMy Te
 am Network was developed by Keith Grover, creator of Networking in Sur
 rey. Find out how it all works at this informal lunchtime session (and
  see our page here on NiS...)\r\nYou can get a decent lunch for around
  £6 (see sample menu) - or just join me with a drink as I enjoy mine!
   \r\nToday's RoundTable Business Topic (chosen by Member vote at the
  previous meeting): ' Christmas Special - My Highlight of 2019 - tell
  us about your best moments in business and/or life this year!' (Chris
 tmas hats, jumpers etc encouraged but optional...)\r\n\"Great meeting 
 Keith. Look forward to the next one...\" Mark Hughes, Funky Social Me
 dia\r\n\"A big thank you to everyone at today’s session for making m
 e feel so welcome.\" Rhona Byrne, International Reiki Master/Teacher 
 & Spiritual Life Coach\r\n\"Really enjoyed MyTeam Network at The Fairm
 ile - a breath of fresh air from all other Networking Groups! Loved it
  and will attend again.\" 'Magic' Theo Theodoris Magician & Mobile 
 Sports Massage Therapist\r\n\"How refreshing - a networking meeting wh
 ere nobody tried to sell me anything!\" David Ross, Manager, Jarret & 
 Lam Consulting\r\n\"I have been to a few networking groups but I have 
 to admit that the \"MyTeam\" experience was by far the best!\" James 
 Mahaffey, Cluster Sales Manager at Surya Hotels\r\nCOST: £10 meeting
  fee plus everybody buys their own lunch or drink at the bar. \r\nBO
 OKING: Please CLICK HERE to book your place\r\nWhen the event shows 
 as SOLD OUT, please email keith@networkinginsurrey.co.uk to go on th
 e waiting list. 'No shows' can't advance book again, but can go on t
 he waiting list.\r\nMAP\r\nAmple free parking\n\nFor more information 
 visit https://networkinginsurrey.co.uk/events/myteam-lunchtime-roundta
 ble-cobham-933
DTSTART;TZID=Europe/London:20191217T123000
DTEND;TZID=Europe/London:20191217T140000
CATEGORIES:lunchtime, free, networking_skills, cobham
LOCATION:The Fairmile and Premier Inn KT11 1BW
WEBSITE:
URL:
CONTACT:01932 843814
ORGANIZER;CN="Keith Grover, NiS Founder":https://networkinginsurrey.co
 .uk/profile/KeithGrover
ATTACH;FMTTYPE="image/jpeg":https://storage.ning.com/topology/rest/1.0
 /file/get/180283123?profile=original
ATTENDEE;ROLE=REQ-PARTICIPANT;PARTSTAT=ACCEPTED;RSVP=TRUE;CN="Keith Gr
 over, NiS Founder":https://networkinginsurrey.co.uk/profile/KeithGrove
 r
END:VEVENT
END:VCALENDAR
