BEGIN:VCALENDAR
PRODID:NingEventWidget-v1
VERSION:2.0
METHOD:PUBLISH
BEGIN:VTIMEZONE
TZID:Europe/London
X-LIC-LOCATION:Europe/London
BEGIN:DAYLIGHT
TZOFFSETFROM:+0000
TZOFFSETTO:+0100
TZNAME:BST
DTSTART:19700329T010000
RRULE:FREQ=YEARLY;BYMONTH=3;BYDAY=-1SU
END:DAYLIGHT
BEGIN:STANDARD
TZOFFSETFROM:+0100
TZOFFSETTO:+0000
TZNAME:GMT
DTSTART:19701025T020000
RRULE:FREQ=YEARLY;BYMONTH=10;BYDAY=-1SU
END:STANDARD
END:VTIMEZONE
BEGIN:VEVENT
UID:4626108:Event:122533
DTSTAMP:20260423T192746Z
SUMMARY:MyTeam Lunchtime RoundTable, Cobham
DESCRIPTION:MyTeam WorkingLunch at The Fairmile\r\n\r\nMy Team Network
  was developed by Keith Grover, creator of Networking in Surrey. Find 
 out how it all works at this informal lunchtime session (and see our p
 age here on NiS...)\r\nYou can get a decent lunch for around £6 (see 
 sample menu) - or just join me with a drink as I enjoy mine!  \r\nToda
 y's RoundTable Business Topic (chosen by Member vote at the previous 
 meeting): 'Building Your Personal Brand - online and offline essential
 s for Social Selling success!'\r\n\"Great meeting Keith. Look forward 
 to the next one...\" Mark Hughes, Funky Social Media\r\n\"A big thank
  you to everyone at today’s session for making me feel so welcome.\"
  Rhona Byrne, International Reiki Master/Teacher & Spiritual Life Coa
 ch\r\n\"Really enjoyed MyTeam Network at The Fairmile - a breath of fr
 esh air from all other Networking Groups! Loved it and will attend aga
 in.\" 'Magic' Theo Theodoris Magician & Mobile Sports Massage Thera
 pist\r\n\"How refreshing - a networking meeting where nobody tried to 
 sell me anything!\" David Ross, Manager, Jarret & Lam Consulting\r\n\"
 I have been to a few networking groups but I have to admit that the \"
 MyTeam\" experience was by far the best!\" James Mahaffey, Cluster S
 ales Manager at Surya Hotels\r\nCOST: £10 meeting fee plus everybody
  buys their own lunch or drink at the bar. (FREE for MyTeam Founder 
 Members) April Special - we're waving the £10 meeting fee for First-t
 ime Visitors (limited places available)\r\nBOOKING: Please CLICK HERE
  to book your place\r\nWhen the event shows as SOLD OUT, please emai
 l keith@networkinginsurrey.co.uk to go on the waiting list. 'No sho
 ws' can't advance book again, but can go on the waiting list.\r\nMAP\r
 \nAmple free parking\n\nFor more information visit https://networkingi
 nsurrey.co.uk/events/myteam-lunchtime-roundtable-cobham-830
DTSTART;TZID=Europe/London:20190507T123000
DTEND;TZID=Europe/London:20190507T140000
CATEGORIES:lunchtime, free, networking_skills, cobham
LOCATION:The Fairmile and Premier Inn KT11 1BW
WEBSITE:
URL:
CONTACT:01932 843814
ORGANIZER;CN="Keith Grover, NiS Founder":https://networkinginsurrey.co
 .uk/profile/KeithGrover
ATTACH;FMTTYPE="image/jpeg":https://storage.ning.com/topology/rest/1.0
 /file/get/180283123?profile=original
ATTENDEE;ROLE=REQ-PARTICIPANT;PARTSTAT=ACCEPTED;RSVP=TRUE;CN="Keith Gr
 over, NiS Founder":https://networkinginsurrey.co.uk/profile/KeithGrove
 r
ATTENDEE;ROLE=REQ-PARTICIPANT;PARTSTAT=TENTATIVE;RSVP=TRUE;CN="Lord Ha
 milton of Glencoe":https://networkinginsurrey.co.uk/profile/BrianIanHa
 milton
END:VEVENT
END:VCALENDAR
