BEGIN:VCALENDAR
PRODID:NingEventWidget-v1
VERSION:2.0
METHOD:PUBLISH
BEGIN:VTIMEZONE
TZID:Europe/London
X-LIC-LOCATION:Europe/London
BEGIN:DAYLIGHT
TZOFFSETFROM:+0000
TZOFFSETTO:+0100
TZNAME:BST
DTSTART:19700329T010000
RRULE:FREQ=YEARLY;BYMONTH=3;BYDAY=-1SU
END:DAYLIGHT
BEGIN:STANDARD
TZOFFSETFROM:+0100
TZOFFSETTO:+0000
TZNAME:GMT
DTSTART:19701025T020000
RRULE:FREQ=YEARLY;BYMONTH=10;BYDAY=-1SU
END:STANDARD
END:VTIMEZONE
BEGIN:VEVENT
UID:4626108:Event:85619
DTSTAMP:20260424T121940Z
SUMMARY:MyTeam Lunchtime RoundTable, Cobham
DESCRIPTION:My Team WorkingLunch at The Fairmile\n\nMy Team Network wa
 s developed by Keith Grover, creator of Networking in Surrey. Find out
  how it all works at this informal lunchtime session.\nYou can get a d
 ecent lunch for around £6 (see sample menu) - or just join me with a 
 drink as I enjoy mine! \nToday's RoundTable Business Topic  (chosen 
 by Member vote): '...to be confirmed' \n\n\"Thanks Keith! I was very
  pleased I joined the Working Lunch session with you all - really bene
 ficial.\" Kirsten Brown, Independent Consultant, Arbonne\n\"Great mee
 ting Keith. Look forward to the next one...\" Mark Hughes, Funky Soci
 al Media\n\"A big thank you to everyone at today’s session for makin
 g me feel so welcome.\" Rhona Byrne, International Reiki Master/Teach
 er & Spiritual Life Coach\n\"Really enjoyed MyTeam Network at The Fair
 mile - a breath of fresh air from all other Networking Groups! Loved i
 t and will attend again.\" 'Magic' Theo Theodoris Magician & Mobile
  Sports Massage Therapist\n\"How refreshing - a networking meeting whe
 re nobody tried to sell me anything!\" David Ross, Manager, Jarret & L
 am Consulting\n\"I have been to a few networking groups but I have to 
 admit that the \"MyTeam\" experience was by far the best!\" James Mah
 affey, Cluster Sales Manager at Surya Hotels\nCOST: FREE for MyTeam
  Founder Members; Visitors £10 (plus everybody buys their own lunch 
 or drink). \nBOOKING: Please CLICK HERE to book your FREE place\nWhe
 n this event shows SOLD OUT, please email keith@networkinginsurrey.co.
 uk to go on the waiting list. 'No shows' can't advance book again, 
 but can go on the waiting list. \nMAP\nAmple free parking\n \n\nFor 
 more information visit https://networkinginsurrey.co.uk/events/myteam-
 lunchtime-roundtable-cobham-8
DTSTART;TZID=Europe/London:20170221T123000
DTEND;TZID=Europe/London:20170221T140000
CATEGORIES:lunchtime, free, networking_skills, cobham
LOCATION:The Fairmile & Premier Inn KT11 1BW
WEBSITE:
URL:
CONTACT:Keith 07743 038995
ORGANIZER;CN="Keith Grover, NiS Founder":https://networkinginsurrey.co
 .uk/profile/KeithGrover
ATTACH;FMTTYPE="image/jpeg":http://storage.ning.com/topology/rest/1.0/
 file/get/211213495?profile=original
ATTENDEE;ROLE=REQ-PARTICIPANT;PARTSTAT=ACCEPTED;RSVP=TRUE;CN="Keith Gr
 over, NiS Founder":https://networkinginsurrey.co.uk/profile/KeithGrove
 r
ATTENDEE;ROLE=REQ-PARTICIPANT;PARTSTAT=TENTATIVE;RSVP=TRUE;CN="Lord Ha
 milton of Glencoe":https://networkinginsurrey.co.uk/profile/BrianIanHa
 milton
END:VEVENT
END:VCALENDAR
