BEGIN:VCALENDAR
PRODID:NingEventWidget-v1
VERSION:2.0
METHOD:PUBLISH
BEGIN:VTIMEZONE
TZID:Europe/London
X-LIC-LOCATION:Europe/London
BEGIN:DAYLIGHT
TZOFFSETFROM:+0000
TZOFFSETTO:+0100
TZNAME:BST
DTSTART:19700329T010000
RRULE:FREQ=YEARLY;BYMONTH=3;BYDAY=-1SU
END:DAYLIGHT
BEGIN:STANDARD
TZOFFSETFROM:+0100
TZOFFSETTO:+0000
TZNAME:GMT
DTSTART:19701025T020000
RRULE:FREQ=YEARLY;BYMONTH=10;BYDAY=-1SU
END:STANDARD
END:VTIMEZONE
BEGIN:VEVENT
UID:4626108:Event:101448
DTSTAMP:20260422T012433Z
SUMMARY:MyTeam Lunchtime RoundTable, Cobham
DESCRIPTION:MyTeam WorkingLunch at The Fairmile\r\n\r\nMy Team Network
  was developed by Keith Grover, creator of Networking in Surrey. Find 
 out how it all works at this informal lunchtime session (and see our p
 age here on NiS...)\r\nYou can get a decent lunch for around Â£6 (see 
 sample menu) - or just join me with a drink as I enjoy mine!  \r\nToda
 y's RoundTable Business TopicÂ (chosen by Member vote at the previous 
 meeting): 'My Greatest Inspiration - a book, person, or experience tha
 t had a huge influence on me... ' \r\n\"Great meeting Keith. Look forw
 ard to the next one...\"Â Mark Hughes, Funky Social Media\r\n\"A big t
 hank you to everyone at todayâ€™s session for making me feel so welcom
 e.\" Rhona Byrne,Â International Reiki Master/Teacher & Spiritual Life
  Coach\r\n\"Really enjoyed MyTeam Network at The Fairmile - a breath o
 f fresh air from all other Networking Groups! Loved it and will attend
  again.\"Â 'Magic' Theo TheodorisÂ Magician &Â Mobile Sports Massage T
 herapist\r\n\"How refreshing - a networking meeting where nobody tried
  to sell me anything!\" David Ross, Manager, Jarret & Lam Consulting\r
 \n\"I have been to a few networking groups but I have to admit that th
 e \"MyTeam\" experience was by far the best!\"Â James Mahaffey,Â Clust
 er Sales Manager at Surya Hotels\r\nCOST: FREE (for November only theÂ
  Â£10 meeting fee is waived for all) plusÂ everybody buys their own lu
 nch or drink. (FREEÂ forÂ MyTeam Founder Members)Â \r\nBOOKING:Â Pleas
 e CLICK HEREÂ to book your place\r\nWhen the event shows asÂ SOLD OUT,
  please email keith@networkinginsurrey.co.ukÂ to go on theÂ waiting li
 st.Â 'No shows' can't advance book again, but can go on the waiting li
 st.\r\nMAP\r\nAmple free parking\n\nFor more information visit https:/
 /networkinginsurrey.co.uk/events/myteam-lunchtime-roundtable-cobham-69
 0
DTSTART;TZID=Europe/London:20181120T123000
DTEND;TZID=Europe/London:20181120T140000
CATEGORIES:lunchtime, free, networking_skills, cobham
LOCATION:The Fairmile and Premier Inn KT11 1BW
WEBSITE:
URL:
CONTACT:01932 843814
ORGANIZER;CN="Keith Grover, NiS Founder":https://networkinginsurrey.co
 .uk/profile/KeithGrover
ATTACH;FMTTYPE="image/jpeg":http://storage.ning.com/topology/rest/1.0/
 file/get/211213495?profile=original
ATTENDEE;ROLE=REQ-PARTICIPANT;PARTSTAT=ACCEPTED;RSVP=TRUE;CN="Lord Ham
 ilton of Glencoe":https://networkinginsurrey.co.uk/profile/BrianIanHam
 ilton
ATTENDEE;ROLE=REQ-PARTICIPANT;PARTSTAT=ACCEPTED;RSVP=TRUE;CN="Keith Gr
 over, NiS Founder":https://networkinginsurrey.co.uk/profile/KeithGrove
 r
END:VEVENT
END:VCALENDAR
