BEGIN:VCALENDAR
PRODID:NingEventWidget-v1
VERSION:2.0
METHOD:PUBLISH
BEGIN:VTIMEZONE
TZID:Europe/London
X-LIC-LOCATION:Europe/London
BEGIN:DAYLIGHT
TZOFFSETFROM:+0000
TZOFFSETTO:+0100
TZNAME:BST
DTSTART:19700329T010000
RRULE:FREQ=YEARLY;BYMONTH=3;BYDAY=-1SU
END:DAYLIGHT
BEGIN:STANDARD
TZOFFSETFROM:+0100
TZOFFSETTO:+0000
TZNAME:GMT
DTSTART:19701025T020000
RRULE:FREQ=YEARLY;BYMONTH=10;BYDAY=-1SU
END:STANDARD
END:VTIMEZONE
BEGIN:VEVENT
UID:4626108:Event:98382
DTSTAMP:20260425T003422Z
SUMMARY:MyTeam Lunchtime RoundTable, Cobham
DESCRIPTION:MyTeam WorkingLunch at The Fairmile\r\n\r\nMy Team Network
  was developed by Keith Grover, creator of Networking in Surrey. Find 
 out how it all works at this informal lunchtime session.\r\nYou can ge
 t a decent lunch for around £6 (see sample menu) - or just join me wi
 th a drink as I enjoy mine!  \r\nToday's RoundTable Business Topic (c
 hosen by Member vote at the previous meeting): 'to be confirmed shortl
 y...'\r\n\"Great meeting Keith. Look forward to the next one...\" Mar
 k Hughes, Funky Social Media\r\n\"A big thank you to everyone at today
 ’s session for making me feel so welcome.\" Rhona Byrne, Internatio
 nal Reiki Master/Teacher & Spiritual Life Coach\r\n\"Really enjoyed My
 Team Network at The Fairmile - a breath of fresh air from all other Ne
 tworking Groups! Loved it and will attend again.\" 'Magic' Theo Theod
 oris Magician & Mobile Sports Massage Therapist\r\n\"How refreshing 
 - a networking meeting where nobody tried to sell me anything!\" David
  Ross, Manager, Jarret & Lam Consulting\r\n\"I have been to a few netw
 orking groups but I have to admit that the \"MyTeam\" experience was b
 y far the best!\" James Mahaffey, Cluster Sales Manager at Surya Hot
 els\r\nCOST: £10 plus everybody buys their own lunch or drink. (FRE
 E for MyTeam Founder Members) \r\nBOOKING: Please CLICK HERE to b
 ook your place\r\nWhen the event shows as SOLD OUT, please email keit
 h@networkinginsurrey.co.uk to go on the waiting list. 'No shows' ca
 n't advance book again, but can go on the waiting list.\r\nMAP\r\nAmpl
 e free parking\n\nFor more information visit https://networkinginsurre
 y.co.uk/events/myteam-lunchtime-roundtable-cobham-591
DTSTART;TZID=Europe/London:20180619T123000
DTEND;TZID=Europe/London:20180619T140000
CATEGORIES:lunchtime, free, networking_skills, cobham
LOCATION:The Fairmile and Premier Inn KT11 1BW
WEBSITE:
URL:
CONTACT:01932 843814
ORGANIZER;CN="Keith Grover, NiS Founder":https://networkinginsurrey.co
 .uk/profile/KeithGrover
ATTACH;FMTTYPE="image/jpeg":http://storage.ning.com/topology/rest/1.0/
 file/get/211213495?profile=original
ATTENDEE;ROLE=REQ-PARTICIPANT;PARTSTAT=ACCEPTED;RSVP=TRUE;CN="Daniel B
 rough":https://networkinginsurrey.co.uk/profile/DanielBrough
ATTENDEE;ROLE=REQ-PARTICIPANT;PARTSTAT=ACCEPTED;RSVP=TRUE;CN="Keith Gr
 over, NiS Founder":https://networkinginsurrey.co.uk/profile/KeithGrove
 r
END:VEVENT
END:VCALENDAR
