BEGIN:VCALENDAR
PRODID:NingEventWidget-v1
VERSION:2.0
METHOD:PUBLISH
BEGIN:VTIMEZONE
TZID:Europe/London
X-LIC-LOCATION:Europe/London
BEGIN:DAYLIGHT
TZOFFSETFROM:+0000
TZOFFSETTO:+0100
TZNAME:BST
DTSTART:19700329T010000
RRULE:FREQ=YEARLY;BYMONTH=3;BYDAY=-1SU
END:DAYLIGHT
BEGIN:STANDARD
TZOFFSETFROM:+0100
TZOFFSETTO:+0000
TZNAME:GMT
DTSTART:19701025T020000
RRULE:FREQ=YEARLY;BYMONTH=10;BYDAY=-1SU
END:STANDARD
END:VTIMEZONE
BEGIN:VEVENT
UID:4626108:Event:97136
DTSTAMP:20260423T030309Z
SUMMARY:MyTeam Lunchtime RoundTable, Cobham
DESCRIPTION:MyTeam WorkingLunch at The Fairmile\r\n\r\nMy Team Network
  was developed by Keith Grover, creator of Networking in Surrey. Find 
 out how it all works at this informal lunchtime session.\r\nYou can ge
 t a decent lunch for around £6 (see sample menu) - or just join me wi
 th a drink as I enjoy mine!  \r\nToday's RoundTable Business Topic (c
 hosen by Member vote at the previous meeting): '...tba...'\r\n\r\n\"G
 reat meeting Keith. Look forward to the next one...\" Mark Hughes, Fu
 nky Social Media\r\n\"A big thank you to everyone at today’s session
  for making me feel so welcome.\" Rhona Byrne, International Reiki Ma
 ster/Teacher & Spiritual Life Coach\r\n\"Really enjoyed MyTeam Network
  at The Fairmile - a breath of fresh air from all other Networking Gro
 ups! Loved it and will attend again.\" 'Magic' Theo Theodoris Magici
 an & Mobile Sports Massage Therapist\r\n\"How refreshing - a networki
 ng meeting where nobody tried to sell me anything!\" David Ross, Manag
 er, Jarret & Lam Consulting\r\n\"I have been to a few networking group
 s but I have to admit that the \"MyTeam\" experience was by far the be
 st!\" James Mahaffey, Cluster Sales Manager at Surya Hotels\r\nCOST:
  £10 plus everybody buys their own lunch or drink. (FREE for MyTe
 am Founder Members) \r\nBOOKING: Please CLICK HERE to book your pla
 ce\r\nWhen the event shows as SOLD OUT, please email keith@networking
 insurrey.co.uk to go on the waiting list. 'No shows' can't advance 
 book again, but can go on the waiting list.\r\nMAP\r\nAmple free parki
 ng\n\nFor more information visit https://networkinginsurrey.co.uk/even
 ts/myteam-lunchtime-roundtable-cobham-501
DTSTART;TZID=Europe/London:20180403T123000
DTEND;TZID=Europe/London:20180403T140000
CATEGORIES:lunchtime, free, networking_skills, cobham
LOCATION:The Fairmile and Premier Inn KT11 1BW
WEBSITE:
URL:
CONTACT:01932 843814
ORGANIZER;CN="Keith Grover, NiS Founder":https://networkinginsurrey.co
 .uk/profile/KeithGrover
ATTACH;FMTTYPE="image/jpeg":http://storage.ning.com/topology/rest/1.0/
 file/get/211213495?profile=original
ATTENDEE;ROLE=REQ-PARTICIPANT;PARTSTAT=ACCEPTED;RSVP=TRUE;CN="Derek Wi
 lliamson":https://networkinginsurrey.co.uk/profile/DerekWilliamson
ATTENDEE;ROLE=REQ-PARTICIPANT;PARTSTAT=ACCEPTED;RSVP=TRUE;CN="Keith Gr
 over, NiS Founder":https://networkinginsurrey.co.uk/profile/KeithGrove
 r
END:VEVENT
END:VCALENDAR
