BEGIN:VCALENDAR
PRODID:NingEventWidget-v1
VERSION:2.0
METHOD:PUBLISH
BEGIN:VTIMEZONE
TZID:Europe/London
X-LIC-LOCATION:Europe/London
BEGIN:DAYLIGHT
TZOFFSETFROM:+0000
TZOFFSETTO:+0100
TZNAME:BST
DTSTART:19700329T010000
RRULE:FREQ=YEARLY;BYMONTH=3;BYDAY=-1SU
END:DAYLIGHT
BEGIN:STANDARD
TZOFFSETFROM:+0100
TZOFFSETTO:+0000
TZNAME:GMT
DTSTART:19701025T020000
RRULE:FREQ=YEARLY;BYMONTH=10;BYDAY=-1SU
END:STANDARD
END:VTIMEZONE
BEGIN:VEVENT
UID:4626108:Event:98296
DTSTAMP:20260423T025729Z
SUMMARY:MyTeam Lunchtime RoundTable, Cobham
DESCRIPTION:MyTeam WorkingLunch at The Fairmile\r\n\r\nMy Team Network
  was developed by Keith Grover, creator of Networking in Surrey. Find 
 out how it all works at this informal lunchtime session (and see our p
 age here on NiS...)\r\nYou can get a decent lunch for around Â£6 (see 
 sample menu) - or just join me with a drink as I enjoy mine!  \r\nToda
 y's RoundTable Business TopicÂ (chosen by Member vote at the previous 
 meeting): ''Social Media Update' - what''s working now (and what's so-
 o-o last year, dahling)?\r\n\"Great meeting Keith. Look forward to the
  next one...\"Â Mark Hughes, Funky Social Media\r\n\"A big thank you t
 o everyone at todayâ€™s session for making me feel so welcome.\" Rhona
  Byrne,Â International Reiki Master/Teacher & Spiritual Life Coach\r\n
 \"Really enjoyed MyTeam Network at The Fairmile - a breath of fresh ai
 r from all other Networking Groups! Loved it and will attend again.\"Â
  'Magic' Theo TheodorisÂ Magician &Â Mobile Sports Massage Therapist\r
 \n\"How refreshing - a networking meeting where nobody tried to sell m
 e anything!\" David Ross, Manager, Jarret & Lam Consulting\r\n\"I have
  been to a few networking groups but I have to admit that the \"MyTeam
 \" experience was by far the best!\"Â James Mahaffey,Â Cluster Sales M
 anager at Surya Hotels\r\nCOST:Â Â£10Â plus everybody buys their own l
 unch or drink. (FREEÂ forÂ MyTeam Founder Members)Â \r\nBOOKING:Â Plea
 se CLICK HEREÂ to book your place\r\nWhen the event shows asÂ SOLD OUT
 , please email keith@networkinginsurrey.co.ukÂ to go on theÂ waiting l
 ist.Â 'No shows' can't advance book again, but can go on the waiting l
 ist.\r\nMAP\r\nAmple free parking\n\nFor more information visit https:
 //networkinginsurrey.co.uk/events/myteam-lunchtime-roundtable-cobham-4
 29
DTSTART;TZID=Europe/London:20180605T123000
DTEND;TZID=Europe/London:20180605T140000
CATEGORIES:lunchtime, free, networking_skills, cobham
LOCATION:The Fairmile and Premier Inn KT11 1BW
WEBSITE:
URL:
CONTACT:01932 843814
ORGANIZER;CN="Keith Grover, NiS Founder":https://networkinginsurrey.co
 .uk/profile/KeithGrover
ATTACH;FMTTYPE="image/jpeg":http://storage.ning.com/topology/rest/1.0/
 file/get/211213495?profile=original
ATTENDEE;ROLE=REQ-PARTICIPANT;PARTSTAT=ACCEPTED;RSVP=TRUE;CN="Lord Ham
 ilton of Glencoe":https://networkinginsurrey.co.uk/profile/BrianIanHam
 ilton
ATTENDEE;ROLE=REQ-PARTICIPANT;PARTSTAT=ACCEPTED;RSVP=TRUE;CN="Keith Gr
 over, NiS Founder":https://networkinginsurrey.co.uk/profile/KeithGrove
 r
END:VEVENT
END:VCALENDAR
