BEGIN:VCALENDAR
PRODID:NingEventWidget-v1
VERSION:2.0
METHOD:PUBLISH
BEGIN:VTIMEZONE
TZID:Europe/London
X-LIC-LOCATION:Europe/London
BEGIN:DAYLIGHT
TZOFFSETFROM:+0000
TZOFFSETTO:+0100
TZNAME:BST
DTSTART:19700329T010000
RRULE:FREQ=YEARLY;BYMONTH=3;BYDAY=-1SU
END:DAYLIGHT
BEGIN:STANDARD
TZOFFSETFROM:+0100
TZOFFSETTO:+0000
TZNAME:GMT
DTSTART:19701025T020000
RRULE:FREQ=YEARLY;BYMONTH=10;BYDAY=-1SU
END:STANDARD
END:VTIMEZONE
BEGIN:VEVENT
UID:4626108:Event:95753
DTSTAMP:20260422T232820Z
SUMMARY:MyTeam Lunchtime RoundTable, Cobham
DESCRIPTION:MyTeam WorkingLunch at The Fairmile\r\n\r\nMy Team Network
  was developed by Keith Grover, creator of Networking in Surrey. Find 
 out how it all works at this informal lunchtime session.\r\nYou can ge
 t a decent lunch for around £6 (see sample menu) - or just join me wi
 th a drink as I enjoy mine!  \r\nToday's RoundTable Business Topic (c
 hosen by Member vote at the previous meeting): 'Making Your Website w
 ork wonders for your business...'\r\n\r\n\"Great meeting Keith. Look f
 orward to the next one...\" Mark Hughes, Funky Social Media\r\n\"A bi
 g thank you to everyone at today’s session for making me feel so wel
 come.\" Rhona Byrne, International Reiki Master/Teacher & Spiritual L
 ife Coach\r\n\"Really enjoyed MyTeam Network at The Fairmile - a breat
 h of fresh air from all other Networking Groups! Loved it and will att
 end again.\" 'Magic' Theo Theodoris Magician & Mobile Sports Massag
 e Therapist\r\n\"How refreshing - a networking meeting where nobody tr
 ied to sell me anything!\" David Ross, Manager, Jarret & Lam Consultin
 g\r\n\"I have been to a few networking groups but I have to admit that
  the \"MyTeam\" experience was by far the best!\" James Mahaffey, Cl
 uster Sales Manager at Surya Hotels\r\nCOST: £10 plus everybody buy
 s their own lunch or drink. (FREE for MyTeam Founder Members) \r\nB
 OOKING: Please CLICK HERE to book your place\r\nWhen the event shows
  as SOLD OUT, please email keith@networkinginsurrey.co.uk to go on t
 he waiting list. 'No shows' can't advance book again, but can go on 
 the waiting list.\r\nMAP\r\nAmple free parking\n\nFor more information
  visit https://networkinginsurrey.co.uk/events/myteam-lunchtime-roundt
 able-cobham-296
DTSTART;TZID=Europe/London:20180220T123000
DTEND;TZID=Europe/London:20180220T140000
CATEGORIES:lunchtime, free, networking_skills, cobham
LOCATION:The Fairmile and Premier Inn KT11 1BW
WEBSITE:
URL:
CONTACT:01932 843814
ORGANIZER;CN="Keith Grover, NiS Founder":https://networkinginsurrey.co
 .uk/profile/KeithGrover
ATTACH;FMTTYPE="image/jpeg":http://storage.ning.com/topology/rest/1.0/
 file/get/211213495?profile=original
ATTENDEE;ROLE=REQ-PARTICIPANT;PARTSTAT=ACCEPTED;RSVP=TRUE;CN="Derek Wi
 lliamson":https://networkinginsurrey.co.uk/profile/DerekWilliamson
ATTENDEE;ROLE=REQ-PARTICIPANT;PARTSTAT=ACCEPTED;RSVP=TRUE;CN="Keith Gr
 over, NiS Founder":https://networkinginsurrey.co.uk/profile/KeithGrove
 r
ATTENDEE;ROLE=REQ-PARTICIPANT;PARTSTAT=ACCEPTED;RSVP=TRUE;CN="Daniel B
 rough":https://networkinginsurrey.co.uk/profile/DanielBrough
END:VEVENT
END:VCALENDAR
