BEGIN:VCALENDAR
PRODID:NingEventWidget-v1
VERSION:2.0
METHOD:PUBLISH
BEGIN:VTIMEZONE
TZID:Europe/London
X-LIC-LOCATION:Europe/London
BEGIN:DAYLIGHT
TZOFFSETFROM:+0000
TZOFFSETTO:+0100
TZNAME:BST
DTSTART:19700329T010000
RRULE:FREQ=YEARLY;BYMONTH=3;BYDAY=-1SU
END:DAYLIGHT
BEGIN:STANDARD
TZOFFSETFROM:+0100
TZOFFSETTO:+0000
TZNAME:GMT
DTSTART:19701025T020000
RRULE:FREQ=YEARLY;BYMONTH=10;BYDAY=-1SU
END:STANDARD
END:VTIMEZONE
BEGIN:VEVENT
UID:4626108:Event:122536
DTSTAMP:20260423T193137Z
SUMMARY:MyTeam Lunchtime RoundTable, Cobham
DESCRIPTION:MyTeam WorkingLunch at The Fairmile\r\n\r\nMy Team Network
  was developed by Keith Grover, creator of Networking in Surrey. Find 
 out how it all works at this informal lunchtime session (and see our p
 age here on NiS...)\r\nYou can get a decent lunch for around £6 (see 
 sample menu) - or just join me with a drink as I enjoy mine! \r\n \r\n
 Today's RoundTable Business Topic (chosen by Member vote at the previ
 ous meeting): 'Instagram - could it work for your business, or is it j
 ust a bit of fun for those 'snowflakey' Millennials?'\r\n\"Great meeti
 ng Keith. Look forward to the next one...\" Mark Hughes, Funky Social
  Media\r\n\"A big thank you to everyone at today’s session for makin
 g me feel so welcome.\" Rhona Byrne, International Reiki Master/Teach
 er & Spiritual Life Coach\r\n\"Really enjoyed MyTeam Network at The Fa
 irmile - a breath of fresh air from all other Networking Groups! Loved
  it and will attend again.\" 'Magic' Theo Theodoris Magician & Mobi
 le Sports Massage Therapist\r\n\"How refreshing - a networking meeting
  where nobody tried to sell me anything!\" David Ross, Manager, Jarret
  & Lam Consulting\r\n\"I have been to a few networking groups but I ha
 ve to admit that the \"MyTeam\" experience was by far the best!\" Jam
 es Mahaffey, Cluster Sales Manager at Surya Hotels\r\nCOST: £10 meet
 ing fee plus everybody buys their own lunch or drink at the bar. \r\
 nBOOKING: Please CLICK HERE to book your place\r\nWhen the event sho
 ws as SOLD OUT, please email keith@networkinginsurrey.co.uk to go on
  the waiting list. 'No shows' can't advance book again, but can go o
 n the waiting list.\r\nMAP\r\nAmple free parking\r\n$(document).ready(
 function(){\r\n    $('iframe#iframe_id').attr('src', 'iframe_url');   
  \r\n});\r\n\n\nFor more information visit https://networkinginsurrey.
 co.uk/events/myteam-lunchtime-roundtable-cobham-125
DTSTART;TZID=Europe/London:20190521T123000
DTEND;TZID=Europe/London:20190521T140000
CATEGORIES:lunchtime, free, networking_skills, cobham
LOCATION:The Fairmile and Premier Inn KT11 1BW
WEBSITE:
URL:
CONTACT:01932 843814
ORGANIZER;CN="Keith Grover, NiS Founder":https://networkinginsurrey.co
 .uk/profile/KeithGrover
ATTACH;FMTTYPE="image/jpeg":https://storage.ning.com/topology/rest/1.0
 /file/get/180283123?profile=original
ATTENDEE;ROLE=REQ-PARTICIPANT;PARTSTAT=ACCEPTED;RSVP=TRUE;CN="Keith Gr
 over, NiS Founder":https://networkinginsurrey.co.uk/profile/KeithGrove
 r
ATTENDEE;ROLE=REQ-PARTICIPANT;PARTSTAT=ACCEPTED;RSVP=TRUE;CN="Jane Tys
 on":https://networkinginsurrey.co.uk/profile/JaneTyson
END:VEVENT
END:VCALENDAR
