BEGIN:VCALENDAR
PRODID:NingEventWidget-v1
VERSION:2.0
METHOD:PUBLISH
BEGIN:VTIMEZONE
TZID:Europe/London
X-LIC-LOCATION:Europe/London
BEGIN:DAYLIGHT
TZOFFSETFROM:+0000
TZOFFSETTO:+0100
TZNAME:BST
DTSTART:19700329T010000
RRULE:FREQ=YEARLY;BYMONTH=3;BYDAY=-1SU
END:DAYLIGHT
BEGIN:STANDARD
TZOFFSETFROM:+0100
TZOFFSETTO:+0000
TZNAME:GMT
DTSTART:19701025T020000
RRULE:FREQ=YEARLY;BYMONTH=10;BYDAY=-1SU
END:STANDARD
END:VTIMEZONE
BEGIN:VEVENT
UID:4626108:Event:86566
DTSTAMP:20260424T051750Z
SUMMARY:MyTeam Lunchtime RoundTable, Cobham
DESCRIPTION:My Team WorkingLunch at The Fairmile\n\nMy Team Network wa
 s developed by Keith Grover, creator of Networking in Surrey. Find out
  how it all works at this informal lunchtime session.\nYou can get a d
 ecent lunch for around £6 (see sample menu) - or just join me with a 
 drink as I enjoy mine! \nToday's RoundTable Business Topic  (chosen 
 by Member vote):   ''Getting Paid by Clients (without the aid of a b
 aseball bat!)'\n\n\"Thanks Keith! I was very pleased I joined the Wor
 king Lunch session with you all - really beneficial.\" Kirsten Brown,
  Independent Consultant, Arbonne\n\"Great meeting Keith. Look forward 
 to the next one...\" Mark Hughes, Funky Social Media\n\"A big thank y
 ou to everyone at today’s session for making me feel so welcome.\" R
 hona Byrne, International Reiki Master/Teacher & Spiritual Life Coach
 \n\"Really enjoyed MyTeam Network at The Fairmile - a breath of fresh 
 air from all other Networking Groups! Loved it and will attend again.\
 " 'Magic' Theo Theodoris Magician & Mobile Sports Massage Therapist
 \n\"How refreshing - a networking meeting where nobody tried to sell m
 e anything!\" David Ross, Manager, Jarret & Lam Consulting\n\"I have b
 een to a few networking groups but I have to admit that the \"MyTeam\"
  experience was by far the best!\" James Mahaffey, Cluster Sales Man
 ager at Surya Hotels\nCOST: £10 plus everybody buys their own lunch
  or drink. (FREE for MyTeam Founder Members) \nBOOKING: Please CLIC
 K HERE to book your place\nWhen this event shows SOLD OUT, please ema
 il keith@networkinginsurrey.co.uk to go on the waiting list. 'No sh
 ows' can't advance book again, but can go on the waiting list.\nMAP\nA
 mple free parking\n \n\nFor more information visit https://networking
 insurrey.co.uk/events/myteam-lunchtime-roundtable-cobham-12
DTSTART;TZID=Europe/London:20170418T123000
DTEND;TZID=Europe/London:20170418T140000
CATEGORIES:lunchtime, free, networking_skills, cobham
LOCATION:The Fairmile & Premier Inn KT11 1BW
WEBSITE:
URL:
CONTACT:01932 843814
ORGANIZER;CN="Keith Grover, NiS Founder":https://networkinginsurrey.co
 .uk/profile/KeithGrover
ATTACH;FMTTYPE="image/jpeg":http://storage.ning.com/topology/rest/1.0/
 file/get/211213495?profile=original
ATTENDEE;ROLE=REQ-PARTICIPANT;PARTSTAT=ACCEPTED;RSVP=TRUE;CN="Keith Gr
 over, NiS Founder":https://networkinginsurrey.co.uk/profile/KeithGrove
 r
END:VEVENT
END:VCALENDAR
