BEGIN:VCALENDAR
PRODID:NingEventWidget-v1
VERSION:2.0
METHOD:PUBLISH
BEGIN:VTIMEZONE
TZID:Europe/London
X-LIC-LOCATION:Europe/London
BEGIN:DAYLIGHT
TZOFFSETFROM:+0000
TZOFFSETTO:+0100
TZNAME:BST
DTSTART:19700329T010000
RRULE:FREQ=YEARLY;BYMONTH=3;BYDAY=-1SU
END:DAYLIGHT
BEGIN:STANDARD
TZOFFSETFROM:+0100
TZOFFSETTO:+0000
TZNAME:GMT
DTSTART:19701025T020000
RRULE:FREQ=YEARLY;BYMONTH=10;BYDAY=-1SU
END:STANDARD
END:VTIMEZONE
BEGIN:VEVENT
UID:4626108:Event:102764
DTSTAMP:20260424T040109Z
SUMMARY:NEW VENUE: MyTeam Lunchtime RoundTable, Ashtead
DESCRIPTION:MyTeam Mole Valley WorkingLunch at The Brewery Inn\r\nMy T
 eam Network was developed by Keith Grover, creator of Networking in Su
 rrey. We have re-launched ourÂ  Mole Valley Group hosted byÂ Jeremy We
 bbÂ - now on the second and fourth TUESDAY of each month...Â \r\nYou c
 an get a decent lunch and a drink for just Â£10 !\r\nToday's RoundTabl
 e Business Topic: To be decided at the meeting on 26th FebruaryÂ Â  Â 
 \r\n\r\nThanks Keith!Â I was very pleased I joined the Working Lunch s
 ession with you all - really beneficial.\"Kirsten Brown, Independent C
 onsultant, Arbonne\r\n\"Great meeting Keith. Look forward to the next 
 one...\"Mark Hughes, Funky Social Media\r\n\"A big thank you to everyo
 ne at todayâ€™s session for making me feel so welcome.\" Rhona Byrne,Â
  International Reiki Master/Teacher & Spiritual Life Coach\r\n\"Really
  enjoyed MyTeam Network at The Fairmile - a breath of fresh air from a
 ll other Networking Groups! Loved it and will attend again.\"Â 'Magic'
  Theo TheodorisÂ Magician &Â Mobile Sports Massage Therapist\r\n\"How 
 refreshing - a networking meeting where nobody tried to sell me anythi
 ng!\"Â Â David Ross, Manager, Jarret & Lam Consulting\r\n\"I have been
  to a few networking groups but I have to admit that the \"MyTeam\" ex
 perience was by far the best!\"James Mahaffey,Â Cluster Sales Manager 
 at Surya Hotels\r\nCOST:Â Â Â£10 First time visitors attend free- just
  pay Â£10 for your lunch and a drink\r\nBOOKING:Â PleaseÂ CLICK HEREÂ 
 to bookÂ \r\nWhen this event shows SOLD OUT, please emailÂ keith@netwo
 rkinginsurrey.co.ukÂ to go on theÂ waiting list.'No shows' can't advan
 ce book again, but can go on the waiting list.Â \r\nMAP\r\nAmple parki
 ng - pub car park in Woodfield Lane fee Â£2 refundable upon spending Â
 £3\n\nFor more information visit https://networkinginsurrey.co.uk/even
 ts/myteam-lunchtime-roundtable-ashtead-1
DTSTART;TZID=Europe/London:20190312T123000
DTEND;TZID=Europe/London:20190312T140000
CATEGORIES:lunchtime, networking, and, business, discussion
LOCATION:The Brewery Inn KT21 2AD
WEBSITE:https://www.classicinns.co.uk/thebreweryinnashtead
URL:https://www.classicinns.co.uk/thebreweryinnashtead
CONTACT:07894 128876
ORGANIZER;CN="Jeremy Webb":https://networkinginsurrey.co.uk/profile/Je
 remyWebb
ATTACH;FMTTYPE="image/jpeg":https://storage.ning.com/topology/rest/1.0
 /file/get/211213495?profile=original
ATTENDEE;ROLE=REQ-PARTICIPANT;PARTSTAT=ACCEPTED;RSVP=TRUE;CN="Jeremy W
 ebb":https://networkinginsurrey.co.uk/profile/JeremyWebb
END:VEVENT
END:VCALENDAR
