BEGIN:VCALENDAR
PRODID:NingEventWidget-v1
VERSION:2.0
METHOD:PUBLISH
BEGIN:VTIMEZONE
TZID:Europe/London
X-LIC-LOCATION:Europe/London
BEGIN:DAYLIGHT
TZOFFSETFROM:+0000
TZOFFSETTO:+0100
TZNAME:BST
DTSTART:19700329T010000
RRULE:FREQ=YEARLY;BYMONTH=3;BYDAY=-1SU
END:DAYLIGHT
BEGIN:STANDARD
TZOFFSETFROM:+0100
TZOFFSETTO:+0000
TZNAME:GMT
DTSTART:19701025T020000
RRULE:FREQ=YEARLY;BYMONTH=10;BYDAY=-1SU
END:STANDARD
END:VTIMEZONE
BEGIN:VEVENT
UID:4626108:Event:529436
DTSTAMP:20260419T232549Z
SUMMARY:MyTeam Lunchtime Boardroom LIVE! Cobham
DESCRIPTION:MyTeam Online WorkingLunch - Back In Person!\r\n\r\nAfter 
 our hugely productive and well-received online Boardroom meeting in la
 st month, we're repeating the popular format in our second in-person m
 eeting since Lockdown 1.0\r\nAny attendee can present a challenge they
  are facing in their business for the Team to Brainstorm.\r\n\r\nTopic
 s will be selected by vote, and the winners will get to sit in the Hot
 Seat while we come up with ideas, feedback and suggestions for ways th
 e issue could be resolved.\r\nWe know it's the most powerful (and pote
 ntially game-changing) form of networking...\r\nMyTeam is not your ave
 rage business networking group! - \r\nOur mantra is 'Engage - Share -
  Support - Collaborate!' reflecting the stages of development a great 
 networking relationship naturally follows.\r\nNotice that 'Sell' is no
 t included in the Mantra (or our meetings) There's no pitching allowed
  (not even a 60-second 'enervator' Pitch)! This allows the real human 
 being to step out from behind the 'reluctant salesperson' façade and 
 be true to themselves, and therefore to the Team. \r\nIt's amazing wh
 at happens next... come and join us to discover the transformation!\r\
 nMyTeam is a 'pay-as-you-go' network- there's no subscription - and 
 no commitment to attend meetings, no exclusions (it's joined-up networ
 king for grown-up people)\r\nCOST: £10 meeting fee (FREE to First-tim
 e Visitors) plus buy your own lunch and drinks at the bar. \r\nBOOKIN
 G: Please CLICK HERE to book your place... \r\nMAP\r\nAmple free park
 ing\r\n------------------------------------------------\r\nWhat MyTeam
  is all about…  • MyTeam Network follows an innovative formula for
  a networking group based on observations of how networking works, and
  why people do it  • MyTeam is based upon the premise ‘we are smar
 ter than me!’ (and ‘stronger together’ too)  • MyTeam Network 
 gives networkers ‘colleagues’  • MyTeam works in the space betwe
 en meetings - too many networkers do nothing apart from go to meetings
  (not because they don't want to, they just don't get around to it - o
 ur team system solves that for you!) • MyTeam doesn’t replace your
  existing networking – it enhances it\n\nFor more information visit 
 https://networkinginsurrey.co.uk/events/myteam-lunchtime-boardroom-liv
 e-cobham
DTSTART;TZID=Europe/London:20211102T123000
DTEND;TZID=Europe/London:20211102T140000
CATEGORIES:networking, lunchtime, myteam
LOCATION:The Fairmile and Premier Inn KT11 1BW
WEBSITE:
URL:
CONTACT:
ORGANIZER;CN="Keith Grover, NiS Founder":https://networkinginsurrey.co
 .uk/profile/KeithGrover
ATTACH;FMTTYPE="image/jpeg":https://storage.ning.com/topology/rest/1.0
 /file/get/4135010496?profile=original
ATTENDEE;ROLE=REQ-PARTICIPANT;PARTSTAT=ACCEPTED;RSVP=TRUE;CN="Keith Gr
 over, NiS Founder":https://networkinginsurrey.co.uk/profile/KeithGrove
 r
END:VEVENT
END:VCALENDAR
