BEGIN:VCALENDAR
PRODID:NingEventWidget-v1
VERSION:2.0
METHOD:PUBLISH
BEGIN:VTIMEZONE
TZID:Europe/London
X-LIC-LOCATION:Europe/London
BEGIN:DAYLIGHT
TZOFFSETFROM:+0000
TZOFFSETTO:+0100
TZNAME:BST
DTSTART:19700329T010000
RRULE:FREQ=YEARLY;BYMONTH=3;BYDAY=-1SU
END:DAYLIGHT
BEGIN:STANDARD
TZOFFSETFROM:+0100
TZOFFSETTO:+0000
TZNAME:GMT
DTSTART:19701025T020000
RRULE:FREQ=YEARLY;BYMONTH=10;BYDAY=-1SU
END:STANDARD
END:VTIMEZONE
BEGIN:VEVENT
UID:4626108:Event:541358
DTSTAMP:20260423T042435Z
SUMMARY:Mole Valley & Surrey Chambers Live! Breakfast, Dorking
DESCRIPTION:Mole Valley & Surrey Chambers Live! Breakfast\r\n\r\nWorkp
 lace Apps – Productivity Utopia or Pandora’s box?\r\nOur speaker f
 or this month is Richard Excell from Excell Design & Marketing.\r\nIn 
 this talk, Richard will explore the impact of workplace apps, which ca
 n be a double-edged sword. We’ll discuss the benefits they bring, su
 ch as improved communication, task management, time management, and do
 cument collaboration. We’ll also delve into the consequences of usin
 g too many apps, including information overload, fragmented communicat
 ion, and decreased productivity. He’ll provide advice on how to eval
 uate workplace apps, considering factors such as necessity, usability,
  integration, and cost. We’ll conclude with the importance of using 
 apps judiciously to avoid ‘app fatigue’ and the need for regular e
 valuation to ensure they’re still serving your team effectively.\r\n
 Finally, we’ll share and discuss some top workplace productivity app
 s and and how they have helped individual businesses in the room.\r\nC
 OST: £15 Mole Valley & Surrey Chambers & Dorking BID Members; £20 No
 n-Members\r\nBOOKING: Please CLICK HERE to book your place\r\nMAP\r\
 n\n\nFor more information visit https://networkinginsurrey.co.uk/event
 s/mvc-business-networking
DTSTART;TZID=Europe/London:20240320T073000
DTEND;TZID=Europe/London:20240320T093000
CATEGORIES:business, networking
LOCATION:The Watermill
WEBSITE:https://maps.app.goo.gl/ayZJomeAHNeBjf73A
URL:https://maps.app.goo.gl/ayZJomeAHNeBjf73A
CONTACT:07789035553
ORGANIZER;CN="Richard Excell":https://networkinginsurrey.co.uk/profile
 /RichardExcell
ATTACH;FMTTYPE="image/jpeg":https://storage.ning.com/topology/rest/1.0
 /file/get/12238046098?profile=original
ATTENDEE;ROLE=REQ-PARTICIPANT;PARTSTAT=ACCEPTED;RSVP=TRUE;CN="Richard 
 Excell":https://networkinginsurrey.co.uk/profile/RichardExcell
END:VEVENT
END:VCALENDAR
